BEGIN:VCALENDAR
VERSION:2.0
PRODID:-//ChamberMaster//Event Calendar 2.0//EN
METHOD:PUBLISH
X-PUBLISHED-TTL:P3D
REFRESH-INTERVAL:P3D
CALSCALE:GREGORIAN
BEGIN:VEVENT
DTSTART:20170422T130000Z
DTEND:20170422T190000Z
X-MICROSOFT-CDO-ALLDAYEVENT:FALSE
SUMMARY:Unity Church in Rockport Earth Day Theme Community Garage Sale and Flea Market
DESCRIPTION:You're invited to share our space! COME BUY\, COME SELL OR DO BOTH. JOIN IN THE FUN\, FOOD AND FELLOWSHIP ON APRIL 22\, 2017 (RAIN DATE APRIL 29) FROM 8 AM UNTIL 2 PM. CONTACT SUE HIKA @ 361-229-2658 FOR DETAILS ON PARTICIPATING AS A SELLER OR FOR PICK UP OF ANY LARGE ITEMS DONATED TO THE CHURCH FOR RESALE. A TABLE WILL BE AVAILABLE FOR CHILDREN TO CREATE A CRAFT PROJECT FROM RECYCLABLES.
X-ALT-DESC;FMTTYPE=text/html:You&#39\;re invited to share our space! COME BUY\, COME SELL OR DO BOTH. JOIN IN THE FUN\, FOOD AND FELLOWSHIP ON APRIL 22\, 2017 (RAIN DATE APRIL 29) FROM 8 AM UNTIL 2 PM. CONTACT SUE HIKA @ 361-229-2658 FOR DETAILS ON PARTICIPATING AS A SELLER OR FOR PICK UP OF ANY LARGE ITEMS DONATED TO THE CHURCH FOR RESALE. A TABLE WILL BE AVAILABLE FOR CHILDREN TO CREATE A CRAFT PROJECT FROM RECYCLABLES.
LOCATION:1119 N. Pearl St. Rockport\, TX 78382
UID:e.2062.23108
SEQUENCE:3
DTSTAMP:20260422T142518Z
URL:https://members.rockport-fulton.org/events/details/unity-church-in-rockport-earth-day-theme-community-garage-sale-and-flea-market-23108
END:VEVENT

END:VCALENDAR
