BEGIN:VCALENDAR
VERSION:2.0
PRODID:-//ChamberMaster//Event Calendar 2.0//EN
METHOD:PUBLISH
X-PUBLISHED-TTL:P3D
REFRESH-INTERVAL:P3D
CALSCALE:GREGORIAN
BEGIN:VEVENT
DTSTART:20180821T170000Z
DTEND:20180821T180000Z
X-MICROSOFT-CDO-ALLDAYEVENT:FALSE
SUMMARY:TXA&M AgriLife Extension
DESCRIPTION:ARANSAS/SAN PATRICIO MASTER GARDENERS\n\n2018 BROWN BAGS\, SEMINARS\, CLASSES & EVENTS\n\n\n\n"TREES" by\n\nTodd Cutting\, Aransas County Master Gardener
X-ALT-DESC;FMTTYPE=text/html:<div style="text-align: center\;"><br />\n<br />\n<font color="#a52a2a"><span style="font-size: 26px\;"><b><i>ARANSAS/SAN PATRICIO MASTER GARDENERS<br />\n2018 BROWN BAGS\, SEMINARS\, CLASSES &amp\; EVENTS<br />\n<br />\n&quot\;TREES&quot\; by<br />\nTodd Cutting\, Aransas County Master Gardener</i></b></span></font></div>\n
LOCATION:Texas A&M AgriLife Extension-Aransas County 892 Airport Road Rockport Tx 78382
UID:e.2062.34762
SEQUENCE:3
DTSTAMP:20260421T110540Z
URL:https://members.rockport-fulton.org/events/details/txa-m-agrilife-extension-34762
END:VEVENT

END:VCALENDAR
