BEGIN:VCALENDAR
VERSION:2.0
PRODID:-//ChamberMaster//Event Calendar 2.0//EN
METHOD:PUBLISH
X-PUBLISHED-TTL:P3D
REFRESH-INTERVAL:P3D
CALSCALE:GREGORIAN
BEGIN:VEVENT
DTSTART:20180331T140000Z
DTEND:20180331T180000Z
X-MICROSOFT-CDO-ALLDAYEVENT:FALSE
SUMMARY:TXA&M AgriLife Extension
DESCRIPTION:Aransas/San Patricio Master Gardeners\n\n2018 Brown Bags\, Seminars\, Classes & Events!\n\n\n\n\n\nWORKSHOP\n\n"FREE PLANTS - PROPAGATING YOUR OWN"\n\n\n\nHands on workshop with our very own Aransas County Master Gardeners\, \n\nAnn Smith and Melody Waggonner
X-ALT-DESC;FMTTYPE=text/html:<div style="text-align: center\;"><br />\n<br />\n<span style="font-size:26px\;"><strong><em><span style="color:#A52A2A\;">Aransas/San Patricio Master Gardeners<br />\n2018 Brown Bags\, Seminars\, Classes &amp\; Events!<br />\n<br />\n<br />\nWORKSHOP<br />\n&quot\;FREE PLANTS - PROPAGATING YOUR OWN&quot\;<br />\n<br />\nHands on workshop with our very own Aransas&nbsp\;County Master Gardeners\,&nbsp\;<br />\nAnn Smith and Melody Waggonner</span></em></strong></span></div>\n
LOCATION:Texas A&M AgriLife Extension-Aransas County 892 Airport Road Rockport Tx 78382
UID:e.2062.32796
SEQUENCE:3
DTSTAMP:20260421T185130Z
URL:https://members.rockport-fulton.org/events/details/txa-m-agrilife-extension-32796
END:VEVENT

END:VCALENDAR
