BEGIN:VCALENDAR
VERSION:2.0
PRODID:-//ChamberMaster//Event Calendar 2.0//EN
METHOD:PUBLISH
X-PUBLISHED-TTL:P3D
REFRESH-INTERVAL:P3D
CALSCALE:GREGORIAN
BEGIN:VEVENT
DTSTART:20180320T170000Z
DTEND:20180320T180000Z
X-MICROSOFT-CDO-ALLDAYEVENT:FALSE
SUMMARY:TXA&M AgriLife Extension
DESCRIPTION:Aransas/San Patricio Master Gardeners\n\n2018 Brown Bags\, Seminars\, Classes & Events!\n\n\n\n\n\nPUBLIC HORTICULTURE EDUCATION SERIES\n\n\n\nHERBS & SPICES\n\nBY:\n\nDAVID LEAL\, HEALTHY SOUTH TEXAS SPECIALIST
X-ALT-DESC;FMTTYPE=text/html:<div style="text-align: center\;"><br />\n<br />\n<span style="font-size:26px\;"><strong><em><span style="color:#A52A2A\;">Aransas/San Patricio Master Gardeners<br />\n2018 Brown Bags\, Seminars\, Classes &amp\; Events!<br />\n<br />\n<br />\nPUBLIC HORTICULTURE EDUCATION SERIES<br />\n<br />\nHERBS &amp\; SPICES<br />\nBY:<br />\nDAVID LEAL\, HEALTHY SOUTH TEXAS SPECIALIST</span></em></strong></span></div>\n
LOCATION:Texas A&M AgriLife Extension-Aransas County 892 Airport Road Rockport Tx 78382
UID:e.2062.32795
SEQUENCE:3
DTSTAMP:20260421T185143Z
URL:https://members.rockport-fulton.org/events/details/txa-m-agrilife-extension-32795
END:VEVENT

END:VCALENDAR
