BEGIN:VCALENDAR
VERSION:2.0
PRODID:-//ChamberMaster//Event Calendar 2.0//EN
METHOD:PUBLISH
X-PUBLISHED-TTL:P3D
REFRESH-INTERVAL:P3D
CALSCALE:GREGORIAN
BEGIN:VEVENT
DTSTART:20170407T160000Z
DTEND:20170409T190000Z
X-MICROSOFT-CDO-ALLDAYEVENT:FALSE
SUMMARY:Tour of Homes April 7-9
DESCRIPTION:Annual Tour of Homes\n\nThe annual Tour of Homes features the best in Texas Coastal Living\, providing a self-guided tour through unique & memorable Rockport dwellings.\n\n\nTake a delightful self-guided tour through enchanting coastal homes. Volunteer docents will guide you and reveal inside information about the architecture\, design\, and fine art that all contribute to the stories and visions of these homeowners.
X-ALT-DESC;FMTTYPE=text/html:<div class="short" style="margin-top: 10px\; text-align: center\;"><span style="font-size:14px\;">Annual Tour of Homes</span></div>\n\n<div class="short" style="margin-top: 10px\;"><span style="font-size:14px\;">The annual Tour of Homes features the best in Texas Coastal Living\, providing a self-guided tour through unique &amp\; memorable Rockport dwellings.</span></div>\n\n<div class="description" style="margin-top: 10px\;">\n<p style="font-family: Arial\, Helvetica\, sans-serif\; font-size: 11px\; margin: 6px 0px 0px\; text-align: justify\; background-color: rgb(255\, 255\, 255)\;"><span style="font-size:14px\;">Take a delightful self-guided tour through enchanting coastal homes.&nbsp\;Volunteer docents will guide you and reveal inside information about the architecture\, design\, and fine art that all contribute to the stories and visions of these homeowners.</span></p>\n\n<div>&nbsp\;</div>\n</div>\n
LOCATION:
UID:e.2062.18600
SEQUENCE:3
DTSTAMP:20260422T142138Z
URL:https://members.rockport-fulton.org/events/details/tour-of-homes-april-7-9-18600
END:VEVENT

END:VCALENDAR
