BEGIN:VCALENDAR
VERSION:2.0
PRODID:-//ChamberMaster//Event Calendar 2.0//EN
METHOD:PUBLISH
X-PUBLISHED-TTL:P3D
REFRESH-INTERVAL:P3D
CALSCALE:GREGORIAN
BEGIN:VEVENT
DTSTART:20180713T230000Z
DTEND:20180714T020000Z
X-MICROSOFT-CDO-ALLDAYEVENT:FALSE
SUMMARY:Pirates Landing Youth EVENTS
DESCRIPTION:WEEKEND FUN AT PIRATES LANDING YOUTH CENTER\n\n\n\nFood Games and Friends!!!\n\n\n\nEnjoy Basketball & Air Hockey Competition\, Be in Talent & Super Hero Events & Win Prizes\n\nENJOY FOOD & FRIENDS\n\nCome be a part of Rockport's Weekend "Place-to-Be!"\n\n \n\nFor Teens-By Teens (with a few adults looking on)\n\n \n\nPirates' Landing\nAll summer through August 4th\, weekend fun at the Pirates' Landing is back! Free for High School and Middle School students - guests or locals! Come be a part of Rockport's weekend "Place-to-be!" Registration forms will be available at the door or email pirateslanding12@gmail.com. See our Facebook page The Pirates' Landing for updates and schedules or call 361-729-0520.
X-ALT-DESC;FMTTYPE=text/html:&nbsp\;\n<div style="text-align: center\;"><span style="font-family:comic sans ms\;"><span style="font-size:36px\;"><span style="color:#0000CD\;"><strong>WEEKEND FUN AT PIRATES LANDING YOUTH CENTER<br />\n<br />\nFood Games and Friends!!!<br />\n<br />\nEnjoy Basketball &amp\; Air Hockey Competition\, Be in Talent &amp\; Super Hero Events &amp\; Win Prizes<br />\nENJOY FOOD &amp\; FRIENDS<br />\nCome be a part of Rockport&#39\;s Weekend &quot\;Place-to-Be!&quot\;</strong></span></span></span><br />\n&nbsp\;</div>\n\n<div><span style="font-family:comic sans ms\;"><span style="font-size:36px\;"><span style="color:#0000CD\;"><strong><span style="font-size:20px\;">For Teens-By Teens (with a few adults looking on)</span></strong></span></span></span><br />\n&nbsp\;\n<div style="color: rgb(34\, 34\, 34)\; font-family: arial\, sans-serif\; font-size: 12.8px\; background-color: rgb(255\, 255\, 255)\;">\n<div style="margin: 0in 0in 0.0001pt\; line-height: 12.85pt\; background-image: initial\; background-position: initial\; background-size: initial\; background-repeat: initial\; background-attachment: initial\; background-origin: initial\; background-clip: initial\; font-size: 11pt\; font-family: Calibri\, sans-serif\;"><span style="font-size: 10pt\; font-family: Arial\, sans-serif\; color: black\;"><b>Pirates&rsquo\; Landing</b></span></div>\n<span style="color: rgb(0\, 0\, 0)\; font-family: Arial\, Helvetica\, sans-serif\; font-size: 13.3333px\;">All summer through&nbsp\;</span><span class="m_-5375231445832414519gmail-aQJ" style="color: rgb(0\, 0\, 0)\; font-family: Arial\, Helvetica\, sans-serif\; font-size: 13.3333px\;"><span class="aBn" data-term="goog_38402584" style="border-bottom: 1px dashed rgb(204\, 204\, 204)\; position: relative\; top: -2px\; z-index: 0\;" tabindex="0"><span class="aQJ" style="position: relative\; top: 2px\; z-index: -1\;">August 4</span></span></span><span style="color: rgb(0\, 0\, 0)\; font-family: Arial\, Helvetica\, sans-serif\; font-size: 13.3333px\;">th\, weekend fun at the Pirates&rsquo\; Landing is back!&nbsp\;</span><strong style="color: rgb(0\, 0\, 0)\; font-family: Arial\, Helvetica\, sans-serif\; font-size: 13.3333px\;">Free</strong><span style="color: rgb(0\, 0\, 0)\; font-family: Arial\, Helvetica\, sans-serif\; font-size: 13.3333px\;">&nbsp\;for High School and Middle School students - guests or locals! </span><span style="color: rgb(0\, 0\, 0)\; font-family: Arial\, Helvetica\, sans-serif\; font-size: 13.3333px\;">Come be a part of Rockport&rsquo\;s weekend &ldquo\;Place-to-be!&rdquo\; Registration forms will be available at the door or email&nbsp\;</span><a href="mailto:pirateslanding12@gmail.com" style="color: rgb(17\, 85\, 204)\; font-family: Arial\, Helvetica\, sans-serif\; font-size: 13.3333px\;" target="_blank">pirateslanding12@gmail.<wbr />com</a><span style="color: rgb(0\, 0\, 0)\; font-family: Arial\, Helvetica\, sans-serif\; font-size: 13.3333px\;">. See our Facebook page The Pirates&rsquo\; Landing for updates and schedules or call 361-729-0520.</span>&nbsp\;</div>\n</div>\n
LOCATION:Presbyterian Gym 301 Hwy 35 N\, Rockport\, TX 78382 located at Live Oak & Business 35
UID:e.2062.35786
SEQUENCE:3
DTSTAMP:20260421T124733Z
URL:https://members.rockport-fulton.org/events/details/the-pirates-landing-youth-center-07-13-2018-35786
END:VEVENT

END:VCALENDAR
