BEGIN:VCALENDAR
VERSION:2.0
PRODID:-//ChamberMaster//Event Calendar 2.0//EN
METHOD:PUBLISH
X-PUBLISHED-TTL:P3D
REFRESH-INTERVAL:P3D
CALSCALE:GREGORIAN
BEGIN:VEVENT
DTSTART:20180224T160000Z
DTEND:20180224T170000Z
X-MICROSOFT-CDO-ALLDAYEVENT:FALSE
SUMMARY:The History Center
DESCRIPTION:Aransas County Strong:\n\nFrom Debris to Creativity & Hope\n\n \n\nPlease join us to celebrate the reopening of the History Center. Our first 2018 exhibit showcases the creations of the Gifted and Talented Students from Live Oak and Fulton Learning Centers. From the recent historic event\, Hurricane Harvey our community experienced\, creations constructed from the debris will be displayed.\n\nStories celebrating Hurricane Harvey HEREOS will also be displayed. This exhibit will be showcased until Sunday\, April 2\, 2018.
X-ALT-DESC;FMTTYPE=text/html:<div>&nbsp\;</div>\n\n<div style="text-align: center\;"><span style="font-size:36px\;"><strong><span style="color:#0000FF\;">&#8203\;<br />\nAransas&nbsp\;County Strong:<br />\nFrom Debris to Creativity &amp\; Hope</span></strong></span><br />\n&nbsp\;</div>\n\n<div style="text-align: center\;"><span style="font-size:36px\;"><strong><span style="color:#0000FF\;"><span style="font-size:28px\;">Please join us to celebrate the reopening of the History Center. Our first 2018 exhibit showcases the creations of the Gifted and Talented Students from Live Oak and Fulton Learning Centers. From the recent historic event\, Hurricane Harvey our community experienced\, creations constructed from the debris will be displayed.</span></span></strong></span></div>\n\n<div><span style="font-size:36px\;"><strong><span style="color:#0000FF\;"><span style="font-size:28px\;">Stories celebrating&nbsp\;<em><span style="font-family:courier new\;">Hurricane Harvey HEREOS&nbsp\;</span></em><span style="font-family:courier new\;"><span style="font-family:comic sans ms\;">will also be displayed. This exhibit will be showcased until Sunday\, April 2\, 2018.</span></span></span></span></strong></span><br />\n&nbsp\;</div>\n
LOCATION:801 E. Cedar Street Rockport\, TX 78382
UID:e.2062.32382
SEQUENCE:3
DTSTAMP:20260421T201448Z
URL:https://members.rockport-fulton.org/events/details/the-history-center-32382
END:VEVENT

END:VCALENDAR
