BEGIN:VCALENDAR
VERSION:2.0
PRODID:-//ChamberMaster//Event Calendar 2.0//EN
METHOD:PUBLISH
X-PUBLISHED-TTL:P3D
REFRESH-INTERVAL:P3D
CALSCALE:GREGORIAN
BEGIN:VEVENT
DTSTART:20180615T220000Z
DTEND:20180617T045500Z
X-MICROSOFT-CDO-ALLDAYEVENT:FALSE
SUMMARY:TGWA Fishing Tourney & Concert June 15-16
DESCRIPTION:The Texas Game Warden's Fishing Tournament and Music Fest\n\nMusic is all booked for the TGWA fishing tournament this year in Fulton Texas on June 15-16 2018. Friday we will have the beautiful Bri Bagwell. Saturday we will have the voice finalist Jake Worthington... Jarrod Birmingham... and Kevin Fowler to close the show.
X-ALT-DESC;FMTTYPE=text/html:<div style="text-align: center\;"><span style="font-family:times new roman\;"><span style="font-size:22px\;"><span style="font-size:24px\;">The Texas Game Warden&#39\;s Fishing Tournament and Music Fest</span></span></span><br />\n<span style="color: rgb(29\, 33\, 41)\; font-family: Helvetica\, Arial\, sans-serif\; font-size: 14px\;">Music is all booked for the TGWA fishing tournament this year in Fulton Texas on June 15-16 2018. Friday we will have the beautiful Bri Bagwell. Saturday we will have the voice finalist Jake Worthington... Jarrod Birmingham... and Kevin Fowler to close the show.&nbsp\;</span></div>\n
LOCATION:Fulton Harbor\, Fulton\, TX
UID:e.2062.32807
SEQUENCE:3
DTSTAMP:20260421T140517Z
URL:https://members.rockport-fulton.org/events/details/tgwa-fishing-tourney-concert-june-15-16-32807
END:VEVENT

END:VCALENDAR
