BEGIN:VCALENDAR
VERSION:2.0
PRODID:-//ChamberMaster//Event Calendar 2.0//EN
METHOD:PUBLISH
X-PUBLISHED-TTL:P3D
REFRESH-INTERVAL:P3D
CALSCALE:GREGORIAN
BEGIN:VEVENT
DTSTART:20150920T000000Z
DTEND:20150920T040000Z
X-MICROSOFT-CDO-ALLDAYEVENT:FALSE
SUMMARY:Texas State Aquarium's Sea You @ Pirate Night
DESCRIPTION:Ahoy there mateys\, come celebrate International Talk Like a Pirate Day with us here at the Texas State Aquarium on Saturday\, September 19th from 7 p.m   11 p.m.!  Don't miss this all adult (18+) evening featuring music to party like a pirate to\, a costume contest\, a cash bar featuring our signature rum punch\, complimentary appetizers\, meet our pirate loving parrots and see the IceRay's Crush Dancers.   Arrrr-guably  the most fun place to be a pirate in the Coastal Bend! Be there or walk the plank! Tickets can be purchased for $25 online or at the door.\n\n\n	$25 per person (18+ please)\n	Exclusive after-hours adult admission to the Aquarium\n	$3 Pirate Punch Drink Special at our Cash Bar\n	Complimentary Appetizers\n	Best Pirate Costume Prize\n	Shark Chat\n	Animal Encounters
X-ALT-DESC;FMTTYPE=text/html:<span style="color:rgb(51\, 0\, 255)">Ahoy there mateys\, come celebrate <strong><em>International Talk Like a Pirate Day</em></strong> with us here at the Texas State Aquarium on Saturday\, September 19<sup>th</sup> from 7 p.m &ndash\; 11 p.m.! &nbsp\;Don&rsquo\;t miss this all adult <strong>(18+) </strong>evening featuring music to party like a pirate to\, a costume contest\, a cash bar featuring our signature rum punch\, complimentary appetizers\, meet our pirate loving parrots and see the IceRay&rsquo\;s Crush Dancers. &nbsp\;&nbsp\;Arrrr-guably &nbsp\;the most fun place to be a pirate in the Coastal Bend! Be there or walk the plank! Tickets can be purchased for $25 </span><a href="https://tickets.texasstateaquarium.org/Sales/Admission/ShowTicket.aspx?OUID=1&amp\;eTicketCode=PirateNight"><span style="color:rgb(51\, 0\, 255)">online</span></a><span style="color:rgb(51\, 0\, 255)"> or at the door.</span>\n\n<ul>\n	<li><span style="color:rgb(51\, 0\, 255)">$25 per person (18+ please)</span></li>\n	<li><span style="color:rgb(51\, 0\, 255)">Exclusive after-hours adult admission to the Aquarium</span></li>\n	<li><span style="color:rgb(51\, 0\, 255)">$3 Pirate Punch Drink Special at our Cash Bar</span></li>\n	<li><span style="color:rgb(51\, 0\, 255)">Complimentary Appetizers</span></li>\n	<li><span style="color:rgb(51\, 0\, 255)">Best Pirate Costume Prize</span></li>\n	<li><span style="color:rgb(51\, 0\, 255)">Shark Chat</span></li>\n	<li><span style="color:rgb(51\, 0\, 255)">Animal Encounters</span></li>\n</ul>\n
LOCATION:Texas State Aquarium 2710 N Shoreline Drive Corpus Christi\, Tx 78404
UID:e.2062.4306
SEQUENCE:3
DTSTAMP:20260423T183845Z
URL:https://members.rockport-fulton.org/events/details/texas-state-aquarium-s-sea-you-pirate-night-09-19-2015-4306
END:VEVENT

END:VCALENDAR
