BEGIN:VCALENDAR
VERSION:2.0
PRODID:-//ChamberMaster//Event Calendar 2.0//EN
METHOD:PUBLISH
X-PUBLISHED-TTL:P3D
REFRESH-INTERVAL:P3D
CALSCALE:GREGORIAN
BEGIN:VEVENT
DTSTART:20180314T000000Z
DTEND:20180314T020000Z
X-MICROSOFT-CDO-ALLDAYEVENT:FALSE
SUMMARY:Texas Maritime Museum
DESCRIPTION:SEAFARING SAGA MOVIE NIGHT\n\n\n\nMISSION BLUE\n\nFeature documentary about legendary oceanographer\, marine biologist\, environmentalist and National Geographic Explorer-in-Residence Sylvia Earle\, and her campaign to create a global network of protected marine sancturaries.
X-ALT-DESC;FMTTYPE=text/html:<div style="text-align: center\;"><br />\n<br />\n<span style="font-size:36px\;"><span style="font-family:comic sans ms\;"><strong><span style="color:#800000\;">SEAFARING SAGA MOVIE NIGHT<br />\n<br />\nMISSION BLUE<br />\nFeature documentary about legendary oceanographer\, marine biologist\, environmentalist and National Geographic Explorer-in-Residence Sylvia Earle\, and her campaign to create a global network of protected marine sancturaries.</span></strong></span></span></div>\n
LOCATION:Texas Maritime Museum 1202 Navigation Circle Rockport Tx 78382
UID:e.2062.32794
SEQUENCE:3
DTSTAMP:20260421T184534Z
URL:https://members.rockport-fulton.org/events/details/texas-maritime-museum-32794
END:VEVENT

END:VCALENDAR
