BEGIN:VCALENDAR
VERSION:2.0
PRODID:-//ChamberMaster//Event Calendar 2.0//EN
METHOD:PUBLISH
X-PUBLISHED-TTL:P3D
REFRESH-INTERVAL:P3D
CALSCALE:GREGORIAN
BEGIN:VEVENT
DTSTART:20180313T150000Z
DTEND:20180313T210000Z
X-MICROSOFT-CDO-ALLDAYEVENT:FALSE
SUMMARY:Texas Maritime Museum
DESCRIPTION:FINALLY....REOPENING\n\nour very own\n\nTEXAS MARITIME MUSEUM\n\nafter Hurricane Harvey Restoration\n\n\n\nCome SEA what's new and exciting at the Official Martime Museum of Texas!
X-ALT-DESC;FMTTYPE=text/html:<div style="text-align: center\;"><br />\n<span style="font-size:36px\;"><span style="font-family:comic sans ms\;"><strong><span style="color:#FF0000\;">FINALLY....REOPENING<br />\nour very own<br />\nTEXAS MARITIME MUSEUM<br />\nafter Hurricane Harvey Restoration<br />\n<br />\nCome SEA what&#39\;s new and exciting at the Official Martime Museum of Texas!</span></strong></span></span></div>\n
LOCATION:1202 Navigation Circle Rockport Tx 78382
UID:e.2062.32793
SEQUENCE:3
DTSTAMP:20260421T184459Z
URL:https://members.rockport-fulton.org/events/details/texas-maritime-museum-32793
END:VEVENT

END:VCALENDAR
