BEGIN:VCALENDAR
VERSION:2.0
PRODID:-//ChamberMaster//Event Calendar 2.0//EN
METHOD:PUBLISH
X-PUBLISHED-TTL:P3D
REFRESH-INTERVAL:P3D
CALSCALE:GREGORIAN
BEGIN:VEVENT
DTSTART:20180202T233000Z
DTEND:20180203T010000Z
X-MICROSOFT-CDO-ALLDAYEVENT:FALSE
SUMMARY:Texas Maritime Museum
DESCRIPTION:HARVEY HARPOONS ROCKPORT\n\nFeaturing former Weather Channel "Tropical Weather Expert"-Dr. Steve Lyons\n\n\n\nDr. Lyons will provide an informative presentation focusing on each of the 5 toes of impact caused by Hurricane Harvey [wind\, waves\, water rise\, rainfall flooding and associated tornadoes] from Corpus to Freeport\, but will mainly focus on Rockport. He will discuss how and why things happened\, and how it could have been far worse! Dr. Woody will finish with what to expect in hurricane season 2018.
X-ALT-DESC;FMTTYPE=text/html:<div style="text-align: center\;"><br />\n<span style="font-size:48px\;">HARVEY HARPOONS ROCKPORT<br />\nFeaturing former Weather Channel &quot\;Tropical Weather Expert&quot\;-Dr. Steve Lyons</span><br />\n<br />\n<span style="font-size:28px\;">Dr. Lyons will provide an informative presentation focusing on each of the 5 toes of impact caused by Hurricane Harvey [wind\, waves\, water rise\, rainfall flooding and associated tornadoes] from Corpus to Freeport\, but will mainly focus on Rockport. He will discuss how and why things happened\, and how it could have been far worse! Dr. Woody will finish with what to expect in hurricane season 2018.</span></div>\n
LOCATION:Texas Maritime Museum 1202 Navigation Circle Rockport Tx 78382
UID:e.2062.32097
SEQUENCE:3
DTSTAMP:20260421T201352Z
URL:https://members.rockport-fulton.org/events/details/texas-maritime-museum-32097
END:VEVENT

END:VCALENDAR
