BEGIN:VCALENDAR
VERSION:2.0
PRODID:-//ChamberMaster//Event Calendar 2.0//EN
METHOD:PUBLISH
X-PUBLISHED-TTL:P3D
REFRESH-INTERVAL:P3D
CALSCALE:GREGORIAN
BEGIN:VEVENT
DTSTART:20180119T233000Z
DTEND:20180120T010000Z
X-MICROSOFT-CDO-ALLDAYEVENT:FALSE
SUMMARY:Texas Maritime Museum
DESCRIPTION:HIDDEN SEA\n\nA NOVEL BY MILES ARCENEAUX\n\n\n\nRECEPTION AND BOOK SIGNING\n\nOPEN TO THE PUBLIC\n\n\n\n100% OF PROCEEDS WILL SUPPORT THE TEXAS MARITIME MUSEUM'S HURRICANE HARVEY RECOVERY.\n\nGUESTS CAN PURCHASE A FULL SET OF SIGNED BOOKS AT THE EVENT.
X-ALT-DESC;FMTTYPE=text/html:<div style="text-align: center\;"><br />\n<br />\n<span style="font-size:36px\;">HIDDEN SEA<br />\nA NOVEL BY MILES ARCENEAUX<br />\n<br />\nRECEPTION AND BOOK SIGNING<br />\nOPEN TO THE PUBLIC<br />\n<br />\n100% OF PROCEEDS WILL SUPPORT THE TEXAS MARITIME MUSEUM&#39\;S HURRICANE HARVEY RECOVERY.<br />\nGUESTS CAN PURCHASE A FULL SET OF SIGNED BOOKS AT THE EVENT.</span></div>\n
LOCATION:Texas Maritime Museum 1202 Navigation Circle Rockport TX 78383
UID:e.2062.32096
SEQUENCE:3
DTSTAMP:20260421T215832Z
URL:https://members.rockport-fulton.org/events/details/texas-maritime-museum-32096
END:VEVENT

END:VCALENDAR
