BEGIN:VCALENDAR
VERSION:2.0
PRODID:-//ChamberMaster//Event Calendar 2.0//EN
METHOD:PUBLISH
X-PUBLISHED-TTL:P3D
REFRESH-INTERVAL:P3D
CALSCALE:GREGORIAN
BEGIN:VEVENT
DTSTART:20180110T010000Z
DTEND:20180110T030000Z
X-MICROSOFT-CDO-ALLDAYEVENT:FALSE
SUMMARY:Texas Maritime Museum
DESCRIPTION:SEAFARING SAGA\n\nMOVIE NIGHTS\n\n\n\nJoin us at the Texas Maritime Museum for a FREE Showing of\n\nLifeboat (1944)
X-ALT-DESC;FMTTYPE=text/html:<div style="text-align: center\;"><br />\n<br />\n<span style="font-size:36px\;"><span style="color:#0000CD\;"><span style="font-family:comic sans ms\;"><u>SEAFARING</u><u> SAGA<br />\nMOVIE NIGHTS</u><br />\n<br />\nJoin us at the Texas Maritime Museum for a FREE Showing of<br />\nLifeboat (1944)</span></span></span></div>\n<br />\n&nbsp\;
LOCATION:Texas Maritime Museum 1202 Navigation Circle Rockport Tx 78382
UID:e.2062.30234
SEQUENCE:3
DTSTAMP:20260421T215838Z
URL:https://members.rockport-fulton.org/events/details/texas-maritime-museum-30234
END:VEVENT

END:VCALENDAR
