BEGIN:VCALENDAR
VERSION:2.0
PRODID:-//ChamberMaster//Event Calendar 2.0//EN
METHOD:PUBLISH
X-PUBLISHED-TTL:P3D
REFRESH-INTERVAL:P3D
CALSCALE:GREGORIAN
BEGIN:VEVENT
DTSTART:20170824T170000Z
DTEND:20170824T190000Z
X-MICROSOFT-CDO-ALLDAYEVENT:FALSE
SUMMARY:Texas A&M AgriLife Extension-Aransas County
DESCRIPTION:4-H Come and Go\n\n Membership Drive and Ice Cream Social\n\n- Community 4H Clubs\n\n- Hands-on Learning Experiences\n\n- Community Service\n\n- Leadership\n\n- Opportunities for families to develop stronger bonds\n\n\n\nCOME LEARN ABOUT 4-H !!!
X-ALT-DESC;FMTTYPE=text/html:<h2 style="font-style: italic\; text-align: center\;"><br />\n<br />\n<span style="font-size:26px\;"><span style="font-family:comic sans ms\;"><strong><span style="color:#FFA07A\;">4-H Come and Go</span></strong></span></span></h2>\n\n<h2 style="font-style: italic\; text-align: center\;"><font face="comic sans ms"><span style="font-size: 28px\;">&nbsp\;Membership Drive and Ice Cream Social</span></font></h2>\n\n<div style="text-align: center\;"><span style="font-size:22px\;">- Community 4H Clubs<br />\n- Hands-on Learning Experiences<br />\n- Community Service<br />\n- Leadership<br />\n- Opportunities for families to develop stronger bonds<br />\n<br />\nCOME LEARN ABOUT 4-H !!!</span></div>\n<br />\n<br />\n<br />\n<br />\n&nbsp\;
LOCATION:TxA&M Agri-Life Extension Office 892 Airport Road Rockport TX 78382
UID:e.2062.27106
SEQUENCE:3
DTSTAMP:20260422T065634Z
URL:https://members.rockport-fulton.org/events/details/texas-a-m-agrilife-extension-aransas-county-27106
END:VEVENT

END:VCALENDAR
