BEGIN:VCALENDAR
VERSION:2.0
PRODID:-//ChamberMaster//Event Calendar 2.0//EN
METHOD:PUBLISH
X-PUBLISHED-TTL:P3D
REFRESH-INTERVAL:P3D
CALSCALE:GREGORIAN
BEGIN:VEVENT
DTSTART:20160227T010000Z
DTEND:20160227T055500Z
X-MICROSOFT-CDO-ALLDAYEVENT:FALSE
SUMMARY:Sky High Roller Casino Night
DESCRIPTION:Riviera Telephone Company presents Sky High Rollers CASINO NIGHT benefitting HALO-Flight\, Friday\, February 26\, 2016 aboard the USS Lexington. Doors Open at 7 p.m. Gaming and cocktails\, heavy hors d?oeuvres\, music and dancing until midnight. Tickets are $100. FMI: 361.265.0509 or www.haloflight.org
X-ALT-DESC;FMTTYPE=text/html:Riviera Telephone Company presents Sky High Rollers CASINO NIGHT benefitting HALO-Flight\, Friday\, February 26\, 2016 aboard the USS Lexington. Doors Open at 7 p.m. Gaming and cocktails\, heavy hors d?oeuvres\, music and dancing until midnight. Tickets are $100. FMI: 361.265.0509 or www.haloflight.org
LOCATION:USS Lexington
UID:e.2062.5030
SEQUENCE:3
DTSTAMP:20260423T112356Z
URL:https://members.rockport-fulton.org/events/details/sky-high-roller-casino-night-02-26-2016-5030
END:VEVENT

END:VCALENDAR
