BEGIN:VCALENDAR
VERSION:2.0
PRODID:-//ChamberMaster//Event Calendar 2.0//EN
METHOD:PUBLISH
X-PUBLISHED-TTL:P3D
REFRESH-INTERVAL:P3D
CALSCALE:GREGORIAN
BEGIN:VEVENT
DTSTART:20171013T220000Z
DTEND:20171015T110000Z
X-MICROSOFT-CDO-ALLDAYEVENT:FALSE
SUMMARY:Seafair Oct. 12-15
DESCRIPTION:43rd Annual Rockport-Fulton Seafair 2017\n\nRockport-Fulton Seafair is more than 40 years old. It is a sea-themed fun festival featuring live big name entertainment\, over 120 vendors\, Gumbo and Chili Cook-Off\, Seafood\, car show\, water entertainment\, a big parade and SO MUCH MORE!  Join us as we "Celebrate the Sea". Thursday night where we start with a Battle of the Bands.  We have more than 15\,000 folks coming - so join us!
X-ALT-DESC;FMTTYPE=text/html:<strong><span style="font-family:comic sans ms\;"><span style="font-size:24px\;">43rd&nbsp\;Annual Rockport-Fulton Seafair 2017</span></span></strong><br />\n<span style="box-sizing: border-box\; font-weight: 700\; color: rgb(51\, 51\, 51)\; font-family: 'Open Sans'\, 'Helvetica Neue'\, Helvetica\, Arial\, sans-serif\; font-size: 16px\; line-height: 22.8571px\; background-color: rgba(255\, 255\, 255\, 0.74902)\;">Rockport-Fulton Seafair</span><span style="color: rgb(51\, 51\, 51)\; font-family: 'Open Sans'\, 'Helvetica Neue'\, Helvetica\, Arial\, sans-serif\; font-size: 16px\; line-height: 22.8571px\; background-color: rgba(255\, 255\, 255\, 0.74902)\;">&nbsp\;is more than 40 years old. It is a sea-themed fun festival featuring live big name entertainment\, over 120 vendors\, Gumbo and Chili Cook-Off\, Seafood\, car show\, water entertainment\, a big parade and SO MUCH MORE!&nbsp\; Join us as we &ldquo\;Celebrate the Sea&rdquo\;.&nbsp\;Thursday night where we start with a Battle of the Bands.&nbsp\;&nbsp\;We have more than 15\,000 folks coming - so join us!</span><br />\n<br />\n&nbsp\;
LOCATION:Rockport-Fulton Texas Navigation Circle
UID:e.2062.20880
SEQUENCE:3
DTSTAMP:20260422T031814Z
URL:https://members.rockport-fulton.org/events/details/seafair-oct-12-15-20880
END:VEVENT

END:VCALENDAR
