BEGIN:VCALENDAR
VERSION:2.0
PRODID:-//ChamberMaster//Event Calendar 2.0//EN
METHOD:PUBLISH
X-PUBLISHED-TTL:P3D
REFRESH-INTERVAL:P3D
CALSCALE:GREGORIAN
BEGIN:VEVENT
DTSTART:20261001T220000Z
DTEND:20261002T030000Z
X-MICROSOFT-CDO-ALLDAYEVENT:FALSE
SUMMARY:SeaFair Community Night
DESCRIPTION:Annual SeaFair Community Night honoring  and no admission for first responders\, teachers and military. \n\nCarnival.  More details to follow......
X-ALT-DESC;FMTTYPE=text/html:Annual SeaFair Community Night honoring&nbsp\; and no admission for first responders\, teachers and military.&nbsp\;<br />\nCarnival.&nbsp\; More details to follow......
LOCATION:Festival Grounds
UID:e.2062.64441
SEQUENCE:3
DTSTAMP:20260421T051809Z
URL:https://members.rockport-fulton.org/events/details/seafair-community-night-64441
END:VEVENT

END:VCALENDAR
