BEGIN:VCALENDAR
VERSION:2.0
PRODID:-//ChamberMaster//Event Calendar 2.0//EN
METHOD:PUBLISH
X-PUBLISHED-TTL:P3D
REFRESH-INTERVAL:P3D
CALSCALE:GREGORIAN
BEGIN:VEVENT
DTSTART:20260427T223000Z
DTEND:20260427T233000Z
X-MICROSOFT-CDO-ALLDAYEVENT:FALSE
SUMMARY:SeaFair Committee Meeting
DESCRIPTION:Monthly SeaFair Committee Meeting
X-ALT-DESC;FMTTYPE=text/html:Monthly SeaFair Committee Meeting
LOCATION:Chamber Chairman's Honor Hall
UID:e.2062.64772
SEQUENCE:3
DTSTAMP:20260424T225326Z
URL:https://members.rockport-fulton.org/events/details/seafair-committee-meeting-64772
END:VEVENT

END:VCALENDAR
