BEGIN:VCALENDAR
VERSION:2.0
PRODID:-//ChamberMaster//Event Calendar 2.0//EN
METHOD:PUBLISH
X-PUBLISHED-TTL:P3D
REFRESH-INTERVAL:P3D
CALSCALE:GREGORIAN
BEGIN:VEVENT
DTSTART:20171012T220000Z
DTEND:20171013T040000Z
X-MICROSOFT-CDO-ALLDAYEVENT:FALSE
SUMMARY:Seafair - Battle of the Bands Oct. 12
DESCRIPTION:Battle of the Bands at Seafair
X-ALT-DESC;FMTTYPE=text/html:<strong>Battle of the Bands at Seafair</strong><br />\n&nbsp\;
LOCATION:Festival Grounds under the Big Tent
UID:e.2062.20875
SEQUENCE:3
DTSTAMP:20260422T032432Z
URL:https://members.rockport-fulton.org/events/details/seafair-battle-of-the-bands-oct-12-20875
END:VEVENT

END:VCALENDAR
