BEGIN:VCALENDAR
VERSION:2.0
PRODID:-//ChamberMaster//Event Calendar 2.0//EN
METHOD:PUBLISH
X-PUBLISHED-TTL:P3D
REFRESH-INTERVAL:P3D
CALSCALE:GREGORIAN
BEGIN:VEVENT
DTSTART:20170701T150000Z
DTEND:20170701T220000Z
X-MICROSOFT-CDO-ALLDAYEVENT:FALSE
SUMMARY:Sandollar Jewelry & Gift Extravaganza
DESCRIPTION:The Sixth Annual Sandollar Jewelry & Gift Extravaganza\n\n \n\nLots of Fun and hourly door prizes will be drawn throughout the day!
X-ALT-DESC;FMTTYPE=text/html:<p style="text-align: center\;"><br />\n<br />\n<span style="color:#0000FF\;"><em><strong><span style="font-size:24px\;"><span style="font-family:comic sans ms\;">The Sixth Annual Sandollar Jewelry &amp\; Gift Extravaganza</span></span></strong></em></span><br />\n&nbsp\;</p>\n\n<p style="text-align: center\;"><span style="color:#0000FF\;"><em><strong><span style="font-size:24px\;"><span style="font-family:comic sans ms\;">Lots of Fun and hourly door prizes will be drawn throughout the day!</span></span></strong></em></span></p>\n
LOCATION:Aransas Pass Civic Center 700 W. Wheeler Aransas Pass\, TX
UID:e.2062.26247
SEQUENCE:3
DTSTAMP:20260422T084212Z
URL:https://members.rockport-fulton.org/events/details/sandollar-jewelry-gift-extravaganza-26247
END:VEVENT

END:VCALENDAR
