BEGIN:VCALENDAR
VERSION:2.0
PRODID:-//ChamberMaster//Event Calendar 2.0//EN
METHOD:PUBLISH
X-PUBLISHED-TTL:P3D
REFRESH-INTERVAL:P3D
CALSCALE:GREGORIAN
BEGIN:VEVENT
DTSTART:20260503T030000Z
DTEND:20260503T210000Z
X-MICROSOFT-CDO-ALLDAYEVENT:FALSE
SUMMARY:Rockport Yacht Club Nautical Flea Market
DESCRIPTION:Nautical Items: Fishing\, Sailing\, Power Boating\, Windsurfing\, Scuba\, New & Used Parts\, Tools\, Motors\, Rods\, Reels\, Sails\, Nautical Art\, New & Used Boats\, Dinghies\, & Kayaks Buy\, Sell\, or Trade.\n\n10:00 AM to 5:00 PM Saturday\n\n10:00 AM to 4:00 PM  Sunday\n\nDaily Entrance Fee- $6.00\n\nChildren under 12 are free!\n\nNo alcohol may be brought into gate.
X-ALT-DESC;FMTTYPE=text/html:<p>Nautical Items: Fishing\, Sailing\, Power Boating\, Windsurfing\, Scuba\, New &amp\; Used Parts\, Tools\, Motors\, Rods\, Reels\, Sails\, Nautical Art\, New &amp\; Used Boats\, Dinghies\, &amp\; Kayaks Buy\, Sell\, or Trade.</p>\n\n<p>10:00 AM to 5:00 PM Saturday<br />\n10:00 AM to 4:00 PM&nbsp\; Sunday<br />\nDaily Entrance Fee- $6.00<br />\nChildren under 12 are free!</p>\n\n<p>No alcohol may be brought into gate.</p>\n
LOCATION:Rockport Festival Grounds
UID:e.2062.64508
SEQUENCE:3
DTSTAMP:20260420T204321Z
URL:https://members.rockport-fulton.org/events/details/rockport-yacht-club-nautical-flea-market-64508
END:VEVENT

END:VCALENDAR
