BEGIN:VCALENDAR
VERSION:2.0
PRODID:-//ChamberMaster//Event Calendar 2.0//EN
METHOD:PUBLISH
X-PUBLISHED-TTL:P3D
REFRESH-INTERVAL:P3D
CALSCALE:GREGORIAN
BEGIN:VEVENT
DTSTART:20170826T233000Z
DTEND:20170827T023000Z
X-MICROSOFT-CDO-ALLDAYEVENT:FALSE
SUMMARY:Rockport Little Theater Presents "GET A CLUE MURDER MYSTERY"
DESCRIPTION:GET A CLUE.....MURDER MYSTERY\n\nHAWAIIAN THEMED\n\n"WHO DONE IT?" - INCLUDES DINNER\, 1 DRINK TICKET AND THEATRE.\n\nCOME AND ENJOY A DELICIOUS DINNER AND FIGURE OUT "WHO DONE IT?"
X-ALT-DESC;FMTTYPE=text/html:<p style="font-style: italic\; text-align: center\;"><font face="comic sans ms"><span style="font-size: 36px\;">GET A CLUE.....MURDER MYSTERY<br />\nHAWAIIAN THEMED<br />\n&quot\;WHO DONE IT?&quot\; - INCLUDES DINNER\, 1 DRINK TICKET AND THEATRE.<br />\nCOME AND ENJOY A DELICIOUS DINNER AND FIGURE OUT &quot\;WHO DONE IT?&quot\;</span></font></p>\n
LOCATION:NorthShore Country Club Main Ballroom 801 E. Broadway Blvd. Portland\, TX 78374
UID:e.2062.27107
SEQUENCE:3
DTSTAMP:20260422T065806Z
URL:https://members.rockport-fulton.org/events/details/rockport-little-theater-presents-get-a-clue-murder-mystery-27107
END:VEVENT

END:VCALENDAR
