BEGIN:VCALENDAR
VERSION:2.0
PRODID:-//ChamberMaster//Event Calendar 2.0//EN
METHOD:PUBLISH
X-PUBLISHED-TTL:P3D
REFRESH-INTERVAL:P3D
CALSCALE:GREGORIAN
BEGIN:VEVENT
DTSTART:20170819T140000Z
DTEND:20170819T210000Z
X-MICROSOFT-CDO-ALLDAYEVENT:FALSE
SUMMARY:Rockport-Fulton Market Days
DESCRIPTION:Rockport-Fulton Market Days\n\n\n\nIt's Official\, we've merged with Rockport Market Days to bring you "The Absolute Best Market Days Along The Coast" starting on August 19th.\n\nLive Music\, a True Coastal Experience on the Waterfront\, over a Dozen Food Vendors\, a Pet Friendly Environment with a Shaded Water Station\n\nfor your 4-Legged Friends.\n\n5-14' X 14' Canopies with Tables and Chairs to Enjoy your Meal and the Live Music along with the Peace and Serenity of the Rockport Harbor.\n\nWelcome to Rockport Fulton Market Days\, the 3rd Saturday of every Month...\n\nCome Join The Fun!!!
X-ALT-DESC;FMTTYPE=text/html:<div style="text-align: center\;">&nbsp\;</div>\n\n<h2 style="font-style: italic\; text-align: center\;"><strong><span style="color:#0000FF\;"><span style="font-family:comic sans ms\;"><span style="font-size:28px\;">Rockport-Fulton Market Days</span></span></span></strong></h2>\n\n<div style="text-align: center\;"><br />\n<span style="font-size:18px\;"><span style="color: rgb(29\, 33\, 41)\; font-family: Helvetica\, Arial\, sans-serif\;">It&#39\;s Official\, we&#39\;ve merged with Rockport Market Days to bring you &quot\;The Absolute Best Market Days Along The Coast&quot\; starting on August 19th.<br />\nLive Music\, a True Coastal Experience on the Waterfront\, over a Dozen Food Vendors\, a Pet Friendly Environment with a&nbsp\;Shaded Water Station<br />\nfor your 4-Legged Friends.<br />\n5-14&#39\; X 14&#39\; Canopies with Tables and Chairs to Enjoy your Meal and the Live Music along with the Peace and Serenity of the Rockport Harbor.<br />\nWelcome to Rockport Fulton Market Days\, the 3rd Saturday of every Month...<br />\nCome Join The Fun!!!</span></span></div>\n
LOCATION:Rockport Fairgrounds 706 Navigation Circle Rockport TX 78382
UID:e.2062.27102
SEQUENCE:3
DTSTAMP:20260422T065843Z
URL:https://members.rockport-fulton.org/events/details/rockport-fulton-market-days-27102
END:VEVENT

END:VCALENDAR
