BEGIN:VCALENDAR
VERSION:2.0
PRODID:-//ChamberMaster//Event Calendar 2.0//EN
METHOD:PUBLISH
X-PUBLISHED-TTL:P3D
REFRESH-INTERVAL:P3D
CALSCALE:GREGORIAN
BEGIN:VEVENT
DTSTART:20180526T190000Z
DTEND:20180528T030000Z
X-MICROSOFT-CDO-ALLDAYEVENT:FALSE
SUMMARY:Rockport Festival of Wine & Food May 26-27
DESCRIPTION:Annual Rockport Festival\n\nof Wine & Food\n\nWine Tasting\, Entertainment & Cooking Demonstrations\n\nFeaturing over 100 varieties of wines\, Food demonstrations\, Vendor booths\, and music!  All on the grounds of the Texas Maritime Museum!
X-ALT-DESC;FMTTYPE=text/html:<div style="text-align: center\;"><strong><span style="font-size:24px\;">&nbsp\;Annual Rockport Festival</span></strong></div>\n\n<div style="text-align: center\;"><strong><span style="font-size:24px\;">of Wine &amp\; Food</span></strong><br />\n<strong><span style="font-size:24px\;">Wine Tasting\, Entertainment &amp\; Cooking Demonstrations</span></strong></div>\n\n<div><span style="font-size:22px\;">Featuring over 100 varieties of wines\, Food demonstrations\, Vendor booths\, and music! &nbsp\;All on the grounds of the Texas Maritime Museum!</span></div>\n
LOCATION:Texas Maritime Museum Rockport Harbor 1202 Navigation Circle Rockport\, TX
UID:e.2062.32345
SEQUENCE:3
DTSTAMP:20260421T154332Z
URL:https://members.rockport-fulton.org/events/details/rockport-festival-of-wine-food-may-26-27-32345
END:VEVENT

END:VCALENDAR
