BEGIN:VCALENDAR
VERSION:2.0
PRODID:-//ChamberMaster//Event Calendar 2.0//EN
METHOD:PUBLISH
X-PUBLISHED-TTL:P3D
REFRESH-INTERVAL:P3D
CALSCALE:GREGORIAN
BEGIN:VEVENT
DTSTART:20171031T230000Z
DTEND:20171101T040000Z
X-MICROSOFT-CDO-ALLDAYEVENT:FALSE
SUMMARY:Rockport Community Pool
DESCRIPTION:Rockport Community Pool\n\nWELCOMES YOU BACK with OUR OCTOBER EVENTS!\n\n\n\nSaturday\, October 28th - Doggie Dunk 10AM-1:30PM\n\n$5/per dog\; $1/per person\n\n\n\nTuesday\, October 31st\n\nHalloweed Event 6PM-11PM\n\nHaunted Hay Ride\, Swimming\, Refreshments and Trunk or Treat!\n\n$5/per person\n\n(Decorate your trunk for Trick-or-Treaters in the Pool's Parking Lot)
X-ALT-DESC;FMTTYPE=text/html:<div style="text-align: center\;"><span style="font-size:28px\;"><span style="font-size:26px\;"><strong><span style="color:#FF0000\;"><span style="font-family:comic sans ms\;">Rockport Community Pool<br />\nWELCOMES YOU BACK with OUR OCTOBER EVENTS!<br />\n<br />\nSaturday\, October 28th - Doggie Dunk 10AM-1:30PM<br />\n$5/per dog\; $1/per person<br />\n<br />\nTuesday\, October 31st<br />\nHalloweed Event 6PM-11PM<br />\nHaunted Hay Ride\, Swimming\, Refreshments and Trunk or Treat!<br />\n$5/per person<br />\n(Decorate your trunk for Trick-or-Treaters in the Pool&#39\;s Parking Lot)</span></span></strong></span></span></div>\n
LOCATION:2001 Stadium Rockport\, TX 78382
UID:e.2062.27558
SEQUENCE:3
DTSTAMP:20260422T031911Z
URL:https://members.rockport-fulton.org/events/details/rockport-community-pool-27558
END:VEVENT

END:VCALENDAR
