BEGIN:VCALENDAR
VERSION:2.0
PRODID:-//ChamberMaster//Event Calendar 2.0//EN
METHOD:PUBLISH
X-PUBLISHED-TTL:P3D
REFRESH-INTERVAL:P3D
CALSCALE:GREGORIAN
BEGIN:VEVENT
DTSTART:20171028T150000Z
DTEND:20171028T183000Z
X-MICROSOFT-CDO-ALLDAYEVENT:FALSE
SUMMARY:Rockport Community Pool
DESCRIPTION:Rockport Community Pool\n\nWELCOMES YOU BACK with OUR\n\nOCTOBER EVENTS!\n\n\n\nSaturday\, OCTOBER 28th - Doggie Dunk 10AM-1:30PM\n\n$5/per dog\; $1/per person\n\n\n\nTuesday\, October 31 -\n\nHalloween Event - 6PM-11PM\n\n Haunted Hay Ride\, Swimming\, Refreshments and Trunk or Treat! $5/per person\n\n(Decorate your trunk for Trick-or-Treaters in the Pool's Parking Lot)
X-ALT-DESC;FMTTYPE=text/html:<div style="text-align: center\;"><strong><span style="font-size:36px\;"><span style="font-family:comic sans ms\;"><span style="color:#FF0000\;">Rockport Community Pool<br />\nWELCOMES YOU BACK with OUR<br />\nOCTOBER EVENTS!<br />\n<br />\nSaturday\, OCTOBER 28th - Doggie Dunk 10AM-1:30PM<br />\n$5/per dog\; $1/per person<br />\n<br />\nTuesday\, October 31 -<br />\nHalloween Event - 6PM-11PM<br />\n&#8203\;Haunted Hay Ride\, Swimming\, Refreshments and Trunk or Treat! $5/per person<br />\n(Decorate your trunk for Trick-or-Treaters in the Pool&#39\;s Parking Lot)</span></span></span></strong><br />\n<br />\n&nbsp\;</div>\n
LOCATION:2001 Stadium Rockport\, TX 78382
UID:e.2062.27557
SEQUENCE:3
DTSTAMP:20260422T032721Z
URL:https://members.rockport-fulton.org/events/details/rockport-community-pool-27557
END:VEVENT

END:VCALENDAR
