BEGIN:VCALENDAR
VERSION:2.0
PRODID:-//ChamberMaster//Event Calendar 2.0//EN
METHOD:PUBLISH
X-PUBLISHED-TTL:P3D
REFRESH-INTERVAL:P3D
CALSCALE:GREGORIAN
BEGIN:VEVENT
DTSTART:20180705T233000Z
DTEND:20180706T020000Z
X-MICROSOFT-CDO-ALLDAYEVENT:FALSE
SUMMARY:Rockport Art Auction Gala
DESCRIPTION:49th Annual Rockport Art Festival\n\nArt Auction Gala\n\n\n\nGala - Thursday\, July 5\, 2018
X-ALT-DESC;FMTTYPE=text/html:<div style="text-align: center\;"><br />\n<span style="color:#0000FF\;"><strong><em><span style="font-size:36px\;"><span style="font-family:comic sans ms\;">&#8203\;49th Annual Rockport Art Festival<br />\nArt Auction Gala</span></span></em></strong></span><br />\n<br />\n<strong><span style="color:#666666\;"><span style="font-family:arial\,sans-serif\;"><span style="font-size:10.5pt\;">Gala - Thursday\, July 5\, 2018</span></span></span></strong></div>\n
LOCATION:Rockport Festival Grounds Under the Air-conditioned big top!
UID:e.2062.35824
SEQUENCE:3
DTSTAMP:20260421T124339Z
URL:https://members.rockport-fulton.org/events/details/rockport-art-auction-gala-35824
END:VEVENT

END:VCALENDAR
