BEGIN:VCALENDAR
VERSION:2.0
PRODID:-//ChamberMaster//Event Calendar 2.0//EN
METHOD:PUBLISH
X-PUBLISHED-TTL:P3D
REFRESH-INTERVAL:P3D
CALSCALE:GREGORIAN
BEGIN:VEVENT
DTSTART:20180828T190000Z
DTEND:20180828T193000Z
X-MICROSOFT-CDO-ALLDAYEVENT:FALSE
SUMMARY:Ribbon Cutting Ceremony
DESCRIPTION:Ribbon Cutting Ceremony for Edgewater Storage Rentals
X-ALT-DESC;FMTTYPE=text/html:Ribbon Cutting Ceremony for Edgewater Storage Rentals&nbsp\;&nbsp\;
LOCATION:2712 FM 3036 Rockport
UID:e.2062.37025
SEQUENCE:3
DTSTAMP:20260423T111922Z
URL:https://members.rockport-fulton.org/events/details/ribbon-cutting-ceremony-37025
END:VEVENT

END:VCALENDAR
