BEGIN:VCALENDAR
VERSION:2.0
PRODID:-//ChamberMaster//Event Calendar 2.0//EN
METHOD:PUBLISH
X-PUBLISHED-TTL:P3D
REFRESH-INTERVAL:P3D
CALSCALE:GREGORIAN
BEGIN:VEVENT
DTSTART:20180724T150000Z
DTEND:20180724T153000Z
X-MICROSOFT-CDO-ALLDAYEVENT:FALSE
SUMMARY:Ribbon Cutting Ceremony
DESCRIPTION:Ribbon Cutting Ceremony for The Dollar Floor Store
X-ALT-DESC;FMTTYPE=text/html:Ribbon Cutting Ceremony for The Dollar Floor Store&nbsp\;
LOCATION:1106 S Highway 35 Bypass Rockport TX
UID:e.2062.36168
SEQUENCE:3
DTSTAMP:20260423T124750Z
URL:https://members.rockport-fulton.org/events/details/ribbon-cutting-ceremony-36168
END:VEVENT

END:VCALENDAR
