BEGIN:VCALENDAR
VERSION:2.0
PRODID:-//ChamberMaster//Event Calendar 2.0//EN
METHOD:PUBLISH
X-PUBLISHED-TTL:P3D
REFRESH-INTERVAL:P3D
CALSCALE:GREGORIAN
BEGIN:VEVENT
DTSTART:20180408T003000Z
DTEND:20180408T020000Z
X-MICROSOFT-CDO-ALLDAYEVENT:FALSE
SUMMARY:Rialto Theatre
DESCRIPTION:Ripcord \n\na dangerously funny battle of wills\n\n \n\nLet is be war! A seemingly harmless bet made between two residents of the Bristol Place Assisted Living Facility produces a risky game of one-upmanship. This hilarious regional premiere will have you laughing\, crying and scared for everyone involved.\n\nWHO WILL PULL THE CORD FIRST?!?
X-ALT-DESC;FMTTYPE=text/html:<div style="text-align: center\;"><br />\n<br />\n<span style="font-size:36px\;"><span style="font-family:comic sans ms\;"><strong><span style="color:#FF0000\;">Ripcord&nbsp\;<br />\na dangerously funny battle of wills</span></strong></span></span><br />\n&nbsp\;</div>\n\n<div><span style="font-size:36px\;"><span style="font-family:comic sans ms\;"><strong><span style="color:#FF0000\;"><span style="font-size:28px\;"><span style="font-size:26px\;">Let is be war! A seemingly harmless bet made between two residents of the Bristol Place Assisted Living Facility produces a risky game of one-upmanship. This hilarious regional premiere will have you laughing\, crying and scared for everyone involved.</span></span></span></strong></span></span></div>\n\n<div style="text-align: center\;"><span style="font-size:36px\;"><span style="font-family:comic sans ms\;"><strong><span style="color:#FF0000\;"><span style="font-size:28px\;"><span style="font-size:26px\;">WHO WILL PULL THE CORD FIRST?!?</span></span></span></strong></span></span></div>\n
LOCATION:Rialto Theater 327 S. Commercial Street Aransas Pass\, TX 78336
UID:e.2062.32354
SEQUENCE:3
DTSTAMP:20260421T170304Z
URL:https://members.rockport-fulton.org/events/details/rialto-theatre-32354
END:VEVENT

END:VCALENDAR
