BEGIN:VCALENDAR
VERSION:2.0
PRODID:-//ChamberMaster//Event Calendar 2.0//EN
METHOD:PUBLISH
X-PUBLISHED-TTL:P3D
REFRESH-INTERVAL:P3D
CALSCALE:GREGORIAN
BEGIN:VEVENT
DTSTART:20180215T000000Z
DTEND:20180215T030000Z
X-MICROSOFT-CDO-ALLDAYEVENT:FALSE
SUMMARY:Rialto Theatre
DESCRIPTION:VALENTINES DATE NIGHT AT\n\nTHE RIALTO THEATER!\n\n\n\nFREE EVENTS:\n\n6PM - BRIAN KELLY AT THE BABY GRAND\n\n7PM - THE NOT SO NEWLYWED GAME\n\n\n\nDESSERTS SERVED DURING INTERMISSION
X-ALT-DESC;FMTTYPE=text/html:<div style="text-align: center\;"><br />\n<em><strong><span style="color:#B22222\;"><span style="font-size:24px\;"><span style="font-family:comic sans ms\;">VALENTINES DATE NIGHT AT<br />\nTHE RIALTO THEATER!<br />\n<br />\nFREE EVENTS:<br />\n6PM&nbsp\;- BRIAN KELLY AT THE BABY GRAND<br />\n7PM&nbsp\;- THE NOT SO NEWLYWED GAME<br />\n<br />\nDESSERTS SERVED DURING INTERMISSION</span></span></span></strong></em><br />\n<br />\n&nbsp\;</div>\n
LOCATION:327 S. Commercial Street Aransas Pass\, TX
UID:e.2062.32337
SEQUENCE:3
DTSTAMP:20260421T204014Z
URL:https://members.rockport-fulton.org/events/details/rialto-theatre-32337
END:VEVENT

END:VCALENDAR
