BEGIN:VCALENDAR
VERSION:2.0
PRODID:-//ChamberMaster//Event Calendar 2.0//EN
METHOD:PUBLISH
X-PUBLISHED-TTL:P3D
REFRESH-INTERVAL:P3D
CALSCALE:GREGORIAN
BEGIN:VEVENT
DTSTART:20180211T200000Z
DTEND:20180211T220000Z
X-MICROSOFT-CDO-ALLDAYEVENT:FALSE
SUMMARY:Rialto Theatre
DESCRIPTION:At the Rialto Theater:\n\nPlay auditions for "RIPCORD" opening in April 2018!\n\n\n\n3 male / 3 female
X-ALT-DESC;FMTTYPE=text/html:<div style="text-align: center\;"><br />\n<span style="font-size:24px\;"><span style="font-family:comic sans ms\;"><em><strong><span style="color:#8B4513\;">At the Rialto Theater:<br />\nPlay auditions for &quot\;RIPCORD&quot\; opening in April 2018!<br />\n<br />\n3 male / 3 female</span></strong></em></span></span></div>\n
LOCATION:327 S. Commercial Street Aransas Pass\, TX
UID:e.2062.32335
SEQUENCE:3
DTSTAMP:20260421T201625Z
URL:https://members.rockport-fulton.org/events/details/rialto-theatre-32335
END:VEVENT

END:VCALENDAR
