BEGIN:VCALENDAR
VERSION:2.0
PRODID:-//ChamberMaster//Event Calendar 2.0//EN
METHOD:PUBLISH
X-PUBLISHED-TTL:P3D
REFRESH-INTERVAL:P3D
CALSCALE:GREGORIAN
BEGIN:VEVENT
DTSTART:20180211T013000Z
DTEND:20180211T030000Z
X-MICROSOFT-CDO-ALLDAYEVENT:FALSE
SUMMARY:Rialto Theatre
DESCRIPTION:Be sure to catch Mike Blakely on the Rialto Theater stage Feb. 10 in Aransas Pass\, TX. \n\n\n\nAs a singer/songwriter\, Mike Blakely has performed all over the U.S. and has made 16 tours to Europe. His songs have been recorded by various artists. As an author\, he has published 18 books released by major New York City publishers. Two of his last three books were co-writes\, one with Willie Nelson and the other with Kenny Rogers. Visit mikeblakely.com to hear his music and learn more about his books.\n\n\n\nSave The Date! February 10 at 7:30 p.m. Tickets are $10.
X-ALT-DESC;FMTTYPE=text/html:<span style="color: rgb(75\, 79\, 86)\; font-family: Helvetica\, Arial\, sans-serif\; font-size: 14px\;">Be sure to catch Mike Blakely on the Rialto Theater stage Feb. 10 in Aransas Pass\, TX.&nbsp\;</span><br style="color: rgb(75\, 79\, 86)\; font-family: Helvetica\, Arial\, sans-serif\; font-size: 14px\;" />\n<br style="color: rgb(75\, 79\, 86)\; font-family: Helvetica\, Arial\, sans-serif\; font-size: 14px\;" />\n<span style="color: rgb(75\, 79\, 86)\; font-family: Helvetica\, Arial\, sans-serif\; font-size: 14px\;">As a singer/songwriter\, Mike Blakely has performed all over the U.S. and has made 16 tours to Europe. His songs have been recorded by various artists. As an author\, he has published 18 books released by major New York City publishers. Two of his last three books were co-writes\, one with Willie Nelson and the other with Kenny Rogers. Visit&nbsp\;</span><a data-lynx-mode="async" data-lynx-uri="https://l.facebook.com/l.php?u=http%3A%2F%2Fmikeblakely.com%2F&amp\;h=ATNqZua6m2esOzFSmmrHf4emMeotKnSBq8WwODQPNaIFYZeOXavdhn44seg2ftQLmSYSN2QGbhgkWrnG4MHnWvHRPaOLkAzciy7DGS67kjMafSijV4SEvMAATnfQtktFE0z4GUo6nH7_wbf3vgdgdxN7QUUWQyuwy5_TA3hd9ck_vfSgJdeg0w" href="http://mikeblakely.com/" rel="nofollow noopener" style="color: rgb(54\, 88\, 153)\; text-decoration-line: none\; font-family: Helvetica\, Arial\, sans-serif\; font-size: 14px\;" target="_blank">mikeblakely.com</a><span style="color: rgb(75\, 79\, 86)\; font-family: Helvetica\, Arial\, sans-serif\; font-size: 14px\;">&nbsp\;to hear his music and learn more about his books.</span><br style="color: rgb(75\, 79\, 86)\; font-family: Helvetica\, Arial\, sans-serif\; font-size: 14px\;" />\n<br style="color: rgb(75\, 79\, 86)\; font-family: Helvetica\, Arial\, sans-serif\; font-size: 14px\;" />\n<span style="color: rgb(75\, 79\, 86)\; font-family: Helvetica\, Arial\, sans-serif\; font-size: 14px\;">Save The Date! February 10 at 7:30 p.m. Tickets are $10.</span>
LOCATION:Rialto Theater 327 S. Commercial Street Aransas Pass TX
UID:e.2062.32334
SEQUENCE:3
DTSTAMP:20260421T201547Z
URL:https://members.rockport-fulton.org/events/details/rialto-theatre-32334
END:VEVENT

END:VCALENDAR
