BEGIN:VCALENDAR
VERSION:2.0
PRODID:-//ChamberMaster//Event Calendar 2.0//EN
METHOD:PUBLISH
X-PUBLISHED-TTL:P3D
REFRESH-INTERVAL:P3D
CALSCALE:GREGORIAN
BEGIN:VEVENT
DTSTART:20180120T013000Z
DTEND:20180120T033000Z
X-MICROSOFT-CDO-ALLDAYEVENT:FALSE
SUMMARY:Rialto Theatre
DESCRIPTION:RIALTO THEATER PRESENTS A REGIONAL PREMIER\n\n\n\nThe Ice-Fishing Musical\n\nA charming slice of midwest life with Lloyd & Marvin\, 2 buddies who spend the day in their ice fishing shanty sharing stories & laughs.\n\nBook & lyrics by Fred Alley: Music by James Kaplan
X-ALT-DESC;FMTTYPE=text/html:&nbsp\;\n<div style="text-align: center\;"><span style="font-size:36px\;">RIALTO THEATER PRESENTS A REGIONAL PREMIER<br />\n<br />\nThe Ice-Fishing Musical<br />\nA charming slice of midwest life with Lloyd &amp\; Marvin\, 2 buddies who spend the day in their ice fishing shanty sharing stories &amp\; laughs.<br />\nBook &amp\; lyrics by Fred Alley: Music by James Kaplan</span></div>\n
LOCATION:Rialto Theatre 327 S. Commercial Street Aransas Pass\, Tx 78336
UID:e.2062.32090
SEQUENCE:3
DTSTAMP:20260421T215945Z
URL:https://members.rockport-fulton.org/events/details/rialto-theatre-32090
END:VEVENT

END:VCALENDAR
