BEGIN:VCALENDAR
VERSION:2.0
PRODID:-//ChamberMaster//Event Calendar 2.0//EN
METHOD:PUBLISH
X-PUBLISHED-TTL:P3D
REFRESH-INTERVAL:P3D
CALSCALE:GREGORIAN
BEGIN:VEVENT
DTSTART:20180318T190000Z
DTEND:20180318T203000Z
X-MICROSOFT-CDO-ALLDAYEVENT:FALSE
SUMMARY:Rialto Theatre
DESCRIPTION:Last Round-Up of the GUACAMOLE QUEENS\n\n \n\nThey're BACK! The third and final episode in the Verdeen Family Trilogy that began with "The Red Velvet Cake Wars" followed by "Rex's Exes". The girls are up against the clock as they frantically attempt to produce the ulitmiate high school reunion before the old school building is demolished.\n\n\n\na jones hope wooten comedy\n\nperformed with permission by dramatists play services
X-ALT-DESC;FMTTYPE=text/html:<div style="text-align: center\;"><br />\n<span style="font-size:36px\;"><span style="font-family:comic sans ms\;"><span style="color:#008000\;"><strong>Last Round-Up of the GUACAMOLE QUEENS</strong></span></span></span><br />\n&nbsp\;</div>\n\n<div><span style="font-size:36px\;"><span style="font-family:comic sans ms\;"><span style="color:#008000\;"><strong>They&#39\;re BACK! The third and final episode in the Verdeen Family Trilogy that began with &quot\;The Red Velvet Cake Wars&quot\; followed by &quot\;Rex&#39\;s Exes&quot\;. The girls are up against the clock as they frantically attempt to produce the ulitmiate high school reunion before the old school building is demolished.</strong></span></span></span><br />\n<br />\na jones hope wooten comedy<br />\nperformed with permission by dramatists play services</div>\n
LOCATION:Rialto Theater 327 S. Commercial Street Aransas Pass\, TX 78336
UID:e.2062.32369
SEQUENCE:3
DTSTAMP:20260421T185721Z
URL:https://members.rockport-fulton.org/events/details/rialto-theatre-03-18-2018-32369
END:VEVENT

END:VCALENDAR
