BEGIN:VCALENDAR
VERSION:2.0
PRODID:-//ChamberMaster//Event Calendar 2.0//EN
METHOD:PUBLISH
X-PUBLISHED-TTL:P3D
REFRESH-INTERVAL:P3D
CALSCALE:GREGORIAN
BEGIN:VEVENT
DTSTART:20180823T180000Z
DTEND:20180823T190000Z
X-MICROSOFT-CDO-ALLDAYEVENT:FALSE
SUMMARY:Rehearsal - Harvey Anniversary Committee
DESCRIPTION:Harvey Reflection Gathering Service\n\nRehearsal
X-ALT-DESC;FMTTYPE=text/html:Harvey Reflection Gathering Service<br />\nRehearsal
LOCATION:Chamber office then walk over to the festival grounds stage
UID:e.2062.36882
SEQUENCE:3
DTSTAMP:20260421T111006Z
URL:https://members.rockport-fulton.org/events/details/rehearsal-harvey-anniversary-committee-36882
END:VEVENT

END:VCALENDAR
