BEGIN:VCALENDAR
VERSION:2.0
PRODID:-//ChamberMaster//Event Calendar 2.0//EN
METHOD:PUBLISH
X-PUBLISHED-TTL:P3D
REFRESH-INTERVAL:P3D
CALSCALE:GREGORIAN
BEGIN:VEVENT
DTSTART:20171011T233000Z
DTEND:20171012T013000Z
X-MICROSOFT-CDO-ALLDAYEVENT:FALSE
SUMMARY:Recovery Rally - Back to Business
DESCRIPTION:Businesses are teaming up to  organize a BACK  To  BUSINESS RECOVERY RALLY and would like to encourage each of you to attend.  The event will be held on Wednesday\, Oct. 11 @ 6:30 pm on the festival grounds.  State Representative Todd Hunter will speak for a few minutes and then we will  have tables set up with Key organizations to answer critical questions for the local business to ask about the process to get back to business.  This will be similar to what Galveston and other communities have done after a natural disaster.  We would encourage each of you to attend.  Not all of you will be asked to sit at a table and answer questions but a few will.  We appreciate your help in sharing this with local business owners and encouraging attendance.  An example of tables:\n\n \n\nTWIA or Texas Insurance Ombudsman\n\nBuilding Permits- County & City\n\nFEMA\n\nSBA\n\nTexas Workforce\n\n \n\nThis is not a place to sell  products or services but a place to inform about the process and help business rebuild.  Thank you for your help in spreading the word and attending.  This is open to all businesses in Aransas County and is open to all\; no need to be a Chamber member. Neighbors helping neighbors is what this is all about.
X-ALT-DESC;FMTTYPE=text/html:<span style="color:#1f497d\;"><span style="font-family:calibri\,sans-serif\;"><span style="font-size:11pt\;">Businesses are teaming up&nbsp\;to&nbsp\; organize a BACK&nbsp\; To&nbsp\; BUSINESS RECOVERY RALLY and would like to encourage each of you to attend.&nbsp\; The event will be held on Wednesday\,&nbsp\;<span data-term="goog_1121089411" style="border-bottom:1px dashed rgb(204\, 204\, 204)\;position:relative\;top:-2px\;z-index:0\;" tabindex="0"><span style="position:relative\;top:2px\;z-index:-1\;">Oct. 11</span></span>&nbsp\;@&nbsp\;<span data-term="goog_1121089412" style="border-bottom:1px dashed rgb(204\, 204\, 204)\;position:relative\;top:-2px\;z-index:0\;" tabindex="0"><span style="position:relative\;top:2px\;z-index:-1\;">6:30 pm</span></span>&nbsp\;on the festival grounds.&nbsp\; State Representative Todd Hunter will speak for a few minutes and then we will&nbsp\; have tables set up with Key organizations to answer critical questions for the local business to ask about the process to get back to business.&nbsp\; This will be similar to what Galveston and other communities have done after a natural disaster.&nbsp\; We would encourage each of you to attend.&nbsp\; Not all of you will be asked to sit at a table and answer questions but a few will.&nbsp\; We appreciate your help in sharing this with local business owners and encouraging attendance.&nbsp\; An example of tables:</span></span></span><br />\n&nbsp\;<br />\n<span style="color:#1f497d\;"><span style="font-family:calibri\,sans-serif\;"><span style="font-size:11pt\;">TWIA&nbsp\;or Texas Insurance Ombudsman</span></span></span><br />\n<span style="color:#1f497d\;"><span style="font-family:calibri\,sans-serif\;"><span style="font-size:11pt\;">Building Permits- County &amp\; City</span></span></span><br />\n<span style="color:#1f497d\;"><span style="font-family:calibri\,sans-serif\;"><span style="font-size:11pt\;">FEMA</span></span></span><br />\n<span style="color:#1f497d\;"><span style="font-family:calibri\,sans-serif\;"><span style="font-size:11pt\;">SBA</span></span></span><br />\n<span style="color:#1f497d\;"><span style="font-family:calibri\,sans-serif\;"><span style="font-size:11pt\;">Texas Workforce</span></span></span><br />\n&nbsp\;<br />\n<span style="color:#1f497d\;"><span style="font-family:calibri\,sans-serif\;"><span style="font-size:11pt\;">This is not a place to sell &nbsp\;products or services but a place to inform about the process and help business rebuild.&nbsp\; Thank you for your help in spreading the word and attending.&nbsp\; This is open to all businesses in Aransas County and is open to all\; no need to be a Chamber member. Neighbors helping neighbors is what this is all about.&nbsp\;</span></span></span>
LOCATION:Festival Grounds at Rockport Harbor
UID:e.2062.27344
SEQUENCE:3
DTSTAMP:20260422T032530Z
URL:https://members.rockport-fulton.org/events/details/recovery-rally-back-to-business-27344
END:VEVENT

END:VCALENDAR
