BEGIN:VCALENDAR
VERSION:2.0
PRODID:-//ChamberMaster//Event Calendar 2.0//EN
METHOD:PUBLISH
X-PUBLISHED-TTL:P3D
REFRESH-INTERVAL:P3D
CALSCALE:GREGORIAN
BEGIN:VEVENT
DTSTART:20180608T143000Z
DTEND:20180608T150000Z
X-MICROSOFT-CDO-ALLDAYEVENT:FALSE
SUMMARY:RCAD/HD Street Sign Unveiling
DESCRIPTION:Cultural Arts District and Heritage District Street Sign Unveiling
X-ALT-DESC;FMTTYPE=text/html:Cultural Arts District and Heritage District Street Sign Unveiling
LOCATION:Austin and Market Streets Downtown
UID:e.2062.35721
SEQUENCE:3
DTSTAMP:20260421T140236Z
URL:https://members.rockport-fulton.org/events/details/rcad-hd-street-sign-unveiling-35721
END:VEVENT

END:VCALENDAR
