BEGIN:VCALENDAR
VERSION:2.0
PRODID:-//ChamberMaster//Event Calendar 2.0//EN
METHOD:PUBLISH
X-PUBLISHED-TTL:P3D
REFRESH-INTERVAL:P3D
CALSCALE:GREGORIAN
BEGIN:VEVENT
DTSTART:20180527T020000Z
DTEND:20180527T000000Z
X-MICROSOFT-CDO-ALLDAYEVENT:FALSE
SUMMARY:Quick Draw Masterpieces Saturday at Plein Air Southwest
DESCRIPTION:Quick Draw Masterpieces Saturday at Plein Air Southwest\n\n \n\nCome on out to the Rockport Center for the Arts on Saturday morning\, May 26th.  This unusually fun spectator sport called the Quick Draw will surely cause your jaw to drop.\n\nPlein Air artists will be completing a painting\, start to finish\, in a couple of hours.  Visitors can interact with the artists and watch them sweat as they rush through the process.  Results can be bold\, fresh\, and colorful!\n\n \n\nSaturday morning\, May 26\, the Plein Air Southwest artists' competition continues with a short two-hour Quick Draw.  The public is welcome to watch the artists complete a painting quickly.  The PASW competition artists can then add their Quick Draw result to the exhibition and sale.  The competing artists will vote on their favorite piece produced by a fellow artist and award the Artists Choice.\n\n \n\nAlongside will be another Quick Draw event with Non-Competition Outdoor Painters Society member artists\, and Local Artists\, providing they registered ahead for the Associates Quick Draw.  Results are eligible for prizes.  1st\, 2nd\, and 3rd Cash Awards will be given.   Stick around to view all the freshly painted Associates and Local Quick Draw pictures displayed on easels. \n\n \n\nInside the Gallery there will be more paintings.  No doubt you will recognize many of the local landscape scenes depicted by the 53 artists competing in the 2018 Plein Air Southwest.  Find your favorite.  The sale and exhibition will be at the downtown Rockport Center for the Arts on Saturday May 26th and continue until June 9\, 2018.
X-ALT-DESC;FMTTYPE=text/html:<div style="color: rgb(34\, 34\, 34)\; font-family: arial\, sans-serif\; font-size: 12.8px\; background-color: rgb(255\, 255\, 255)\; text-align: center\;"><strong><span style="font-size:16.0pt\;">Quick Draw Masterpieces Saturday at Plein Air Southwest</span></strong><br />\n&nbsp\;<br />\nCome on out to the <strong>Rockport Center for the Arts</strong> on Saturday morning\, May 26th. &nbsp\;This unusually fun spectator sport called the <strong>Quick Draw</strong> will surely cause your jaw to drop.<br />\nPlein Air artists will be completing a painting\, start to finish\, in a couple of hours.&nbsp\; Visitors can interact with the artists and watch them sweat as they rush through the process.&nbsp\; Results can be bold\, fresh\, and colorful!<br />\n&nbsp\;<br />\nSaturday morning\, May 26\, the <strong>Plein Air Southwest</strong> artists&rsquo\; competition continues with a short two-hour <strong>Quick Draw</strong>.&nbsp\; The public is welcome to watch the artists complete a painting quickly.&nbsp\; The PASW competition artists can then add their Quick Draw result to the exhibition and sale.&nbsp\; The competing artists will vote on their favorite piece produced by a fellow artist and award the Artists Choice.<br />\n&nbsp\;<br />\nAlongside will be another <strong>Quick Draw</strong> event with Non-Competition <strong>Outdoor Painters Society</strong> member artists\, and <strong>Local Artists</strong>\, providing they registered ahead for the Associates Quick Draw.&nbsp\; Results are eligible for prizes.&nbsp\; 1<sup>st</sup>\, 2<sup>nd</sup>\, and 3<sup>rd</sup> Cash Awards will be given. &nbsp\;&nbsp\;Stick around to view all the freshly painted Associates and Local Quick Draw pictures displayed on easels.&nbsp\;<br />\n&nbsp\;<br />\nInside the Gallery there will be more paintings.&nbsp\; No doubt you will recognize many of the local landscape scenes depicted by the 53 artists competing in the 2018 Plein Air Southwest.&nbsp\; Find your favorite.&nbsp\; The sale and exhibition will be at the downtown <strong>Rockport Center for the Arts</strong> on Saturday May 26<sup>th</sup> and continue until June 9\, 2018.&nbsp\;</div>\n\n<div style="color: rgb(34\, 34\, 34)\; font-family: arial\, sans-serif\; font-size: 12.8px\; background-color: rgb(255\, 255\, 255)\;">&nbsp\;</div>\n
LOCATION:Rockport Center for the Arts 106 S. Austin St. Rockport\, TX 78382
UID:e.2062.35110
SEQUENCE:3
DTSTAMP:20260421T154113Z
URL:https://members.rockport-fulton.org/events/details/quick-draw-masterpieces-saturday-at-plein-air-southwest-35110
END:VEVENT

END:VCALENDAR
