BEGIN:VCALENDAR
VERSION:2.0
PRODID:-//ChamberMaster//Event Calendar 2.0//EN
METHOD:PUBLISH
X-PUBLISHED-TTL:P3D
REFRESH-INTERVAL:P3D
CALSCALE:GREGORIAN
BEGIN:VEVENT
DTSTART:20170722T170000Z
DTEND:20170722T180000Z
X-MICROSOFT-CDO-ALLDAYEVENT:FALSE
SUMMARY:Polish Invitational Fishing Tournament
DESCRIPTION:POLISH INVITATIONAL FISHING TOURNAMENT
X-ALT-DESC;FMTTYPE=text/html:<div style="text-align: center\;"><strong><em><span style="font-size:28px\;"><span style="font-family:comic sans ms\;">POLISH INVITATIONAL FISHING TOURNAMENT</span></span></em></strong></div>\n
LOCATION:Paws & Taws Convention Center 402 N. Fulton Beach Road Fulton\, TX 78358
UID:e.2062.26252
SEQUENCE:3
DTSTAMP:20260422T084309Z
URL:https://members.rockport-fulton.org/events/details/polish-invitational-fishing-tournament-26252
END:VEVENT

END:VCALENDAR
