BEGIN:VCALENDAR
VERSION:2.0
PRODID:-//ChamberMaster//Event Calendar 2.0//EN
METHOD:PUBLISH
X-PUBLISHED-TTL:P3D
REFRESH-INTERVAL:P3D
CALSCALE:GREGORIAN
BEGIN:VEVENT
DTSTART:20180404T160000Z
DTEND:20180404T170000Z
X-MICROSOFT-CDO-ALLDAYEVENT:FALSE
SUMMARY:Pickin' on the Porch
DESCRIPTION:Pickin' on the Porch\n\na Winter Texan Entertainment Event\n\n\n\nCome on over for some Music\, fun and make new friends. Fabulous music right on our front porch...just for YOU!\n\nJoin and sing a long with us.\n\n\n\nBring your lawn chair and friends
X-ALT-DESC;FMTTYPE=text/html:<div style="text-align: center\;"><span style="font-family:comic sans ms\;"><span style="font-size:24px\;"><strong>Pickin&#39\; on the Porch<br />\na Winter Texan Entertainment Event<br />\n<br />\n<span style="color:#FF0000\;">Come on over for some Music\, fun and make new friends. Fabulous music right on our front porch...just for YOU!<br />\nJoin and sing a long with us.</span></strong></span></span><br />\n<br />\n<span style="font-size:20px\;"><span style="font-family:comic sans ms\;"><strong><span style="color:#FF0000\;">Bring your lawn chair and friends</span></strong></span></span></div>\n
LOCATION:Rockport Fulton Chamber of Commerce "Front Porch at the Visitors Center" 319 Broadway
UID:e.2062.33224
SEQUENCE:3
DTSTAMP:20260421T170604Z
URL:https://members.rockport-fulton.org/events/details/pickin-on-the-porch-33224
END:VEVENT

END:VCALENDAR
