BEGIN:VCALENDAR
VERSION:2.0
PRODID:-//ChamberMaster//Event Calendar 2.0//EN
METHOD:PUBLISH
X-PUBLISHED-TTL:P3D
REFRESH-INTERVAL:P3D
CALSCALE:GREGORIAN
BEGIN:VEVENT
DTSTART:20180207T170000Z
DTEND:20180207T180000Z
X-MICROSOFT-CDO-ALLDAYEVENT:FALSE
SUMMARY:Pickin' on the Porch
DESCRIPTION:Pickin' on the Porch\n\na Winter Texan Entertainment Event\n\n\n\n\n\n\n\nCome on over for some Music\, fun and make new friends. Great fun event...just for You!\n\nJoin us and sing-a-along........
X-ALT-DESC;FMTTYPE=text/html:<div style="text-align: center\;"><span style="font-family:comic sans ms\;"><span style="font-size:24px\;"><strong>Pickin&#39\; on the Porch<br />\na Winter Texan Entertainment Event</strong></span></span><br />\n<br />\n<br />\n<br />\n<span comic="" sans="" style="color: rgb(51\, 51\, 51)\; font-size: 13px\; text-align: center\; background-color: rgb(255\, 255\, 255)\; font-family: "><span style="font-size: 24px\;"><strong><span style="color: rgb(255\, 0\, 0)\;">Come on over for some Music\, fun and make new friends. Great fun event...just for You!<br />\nJoin us&nbsp\;and sing-a-along........</span></strong></span></span></div>\n
LOCATION:Rockport Fulton Chamber of Commerce "Front Porch at the Visitors Center" 319 Broadway
UID:e.2062.32336
SEQUENCE:3
DTSTAMP:20260421T201740Z
URL:https://members.rockport-fulton.org/events/details/pickin-on-the-porch-32336
END:VEVENT

END:VCALENDAR
