BEGIN:VCALENDAR
VERSION:2.0
PRODID:-//ChamberMaster//Event Calendar 2.0//EN
METHOD:PUBLISH
X-PUBLISHED-TTL:P3D
REFRESH-INTERVAL:P3D
CALSCALE:GREGORIAN
BEGIN:VEVENT
DTSTART:20180103T170000Z
DTEND:20180103T180000Z
X-MICROSOFT-CDO-ALLDAYEVENT:FALSE
SUMMARY:Pickin' on the Porch
DESCRIPTION:Pickin' on the Porch!\n\nJOIN US  and LISTEN TO THE MUSIC.
X-ALT-DESC;FMTTYPE=text/html:Pickin&#39\; on the Porch!<br />\nJOIN US&nbsp\; and LISTEN TO THE MUSIC.
LOCATION:Visitors Center Front Porch 319 Broadway
UID:e.2062.32030
SEQUENCE:3
DTSTAMP:20260421T220349Z
URL:https://members.rockport-fulton.org/events/details/pickin-on-the-porch-32030
END:VEVENT

END:VCALENDAR
