BEGIN:VCALENDAR
VERSION:2.0
PRODID:-//ChamberMaster//Event Calendar 2.0//EN
METHOD:PUBLISH
X-PUBLISHED-TTL:P3D
REFRESH-INTERVAL:P3D
CALSCALE:GREGORIAN
BEGIN:VEVENT
DTSTART:20160526T233000Z
DTEND:20160527T040000Z
X-MICROSOFT-CDO-ALLDAYEVENT:FALSE
SUMMARY:Patron Party - 20th Annual Rockport Festival of Wine & Food
DESCRIPTION:Pinots & Platinum\n\n20th Annual Rockport Festival of Wine & Food Patron Party\n\nThe 2016 Patron Party Honors the Founders and all Other Supporters Over the Past 20 Years!
X-ALT-DESC;FMTTYPE=text/html:<div style="text-align: center\;">Pinots &amp\; Platinum<br />\n20th&nbsp\;Annual Rockport Festival of Wine &amp\; Food Patron Party<br />\nThe 2016 Patron Party Honors the Founders and all Other Supporters Over the Past 20 Years!</div>\n
LOCATION:On the Grounds of the Texas Maritime Museum 1202 Navigation Circle Rockport\, TX
UID:e.2062.18451
SEQUENCE:3
DTSTAMP:20260423T071945Z
URL:https://members.rockport-fulton.org/events/details/patron-party-20th-annual-rockport-festival-of-wine-food-05-26-2016-18451
END:VEVENT

END:VCALENDAR
