BEGIN:VCALENDAR
VERSION:2.0
PRODID:-//ChamberMaster//Event Calendar 2.0//EN
METHOD:PUBLISH
X-PUBLISHED-TTL:P3D
REFRESH-INTERVAL:P3D
CALSCALE:GREGORIAN
BEGIN:VEVENT
DTSTART:20180301T230000Z
DTEND:20180305T000000Z
X-MICROSOFT-CDO-ALLDAYEVENT:FALSE
SUMMARY:Oysterfest March 1-4
DESCRIPTION:39th Annual Fulton Oysterfest\n\nEach year the Fulton Volunteer Fire Department and the Town of Fulton sponsor Oysterfest\, a salute to the tasty bi-valve found in our local waters.  Oysterfest features carnival rides\, games\, food\, and oyster eating contest\, live music\, unique vendor booths and most of all - FUN!
X-ALT-DESC;FMTTYPE=text/html:<strong><span style="font-size:24px\;">39th&nbsp\;Annual Fulton Oysterfest</span></strong><br />\n<span style="font-family:times new roman\;"><span style="font-size:22px\;"><span style="font-size:20px\;">Each year the Fulton Volunteer Fire Department and the Town of Fulton sponsor Oysterfest\, a salute to the tasty bi-valve found in our local waters. &nbsp\;Oysterfest features carnival rides\, games\, food\, and oyster eating contest\, live music\, unique vendor booths and most of all - FUN!</span></span></span><br />\n<br />\n&nbsp\;
LOCATION:Fulton Navigation Park
UID:e.2062.20711
SEQUENCE:3
DTSTAMP:20260421T185235Z
URL:https://members.rockport-fulton.org/events/details/oysterfest-march-1-4-20711
END:VEVENT

END:VCALENDAR
