BEGIN:VCALENDAR
VERSION:2.0
PRODID:-//ChamberMaster//Event Calendar 2.0//EN
METHOD:PUBLISH
X-PUBLISHED-TTL:P3D
REFRESH-INTERVAL:P3D
CALSCALE:GREGORIAN
BEGIN:VEVENT
DTSTART:20170729T010000Z
DTEND:20170729T020000Z
X-MICROSOFT-CDO-ALLDAYEVENT:FALSE
SUMMARY:Oink Hooked on Youth Fishing Tournament
DESCRIPTION:OINK HOOKED ON YOUTH FISHING TOURNAMENT\n\n\n\nThe Oink Inc. New Generation - 17th Annual Hooked on Youth Fishing Tournament\n\n\n\nOink Inc. The New Generation is a nonprofit organization that supports Texas Youth in Agriculture\, through the purchase of animals at various livestock exposition auctions in Bexar and surrounding counties.\n\n\n\nS.A.L.E. - Bexar County\, Walter Gerlach\, Guadalupe County\, La Vernia\, and many more...
X-ALT-DESC;FMTTYPE=text/html:<div style="text-align: center\;">OINK HOOKED ON YOUTH FISHING TOURNAMENT<br />\n<br />\nThe Oink Inc. New Generation - 17th Annual Hooked on Youth Fishing Tournament<br />\n<br />\n<span style="color: rgb(75\, 79\, 86)\; font-family: Helvetica\, Arial\, sans-serif\; font-size: 14px\;">Oink Inc. The New Generation is a nonprofit organization that supports Texas Youth in Agriculture\, through the purchase of animals at various livestock exposition auctions in Bexar and surrounding counties.</span><br style="color: rgb(75\, 79\, 86)\; font-family: Helvetica\, Arial\, sans-serif\; font-size: 14px\;" />\n<br style="color: rgb(75\, 79\, 86)\; font-family: Helvetica\, Arial\, sans-serif\; font-size: 14px\;" />\n<span style="color: rgb(75\, 79\, 86)\; font-family: Helvetica\, Arial\, sans-serif\; font-size: 14px\;">S.A.L.E. - Bexar County\, Walter Gerlach\, Guadalupe County\, La Vernia\, and many more...&nbsp\;</span></div>\n
LOCATION:Paws & Taws Convention Center 402 N. Fulton Beach Road Fulton\, TX y Tournament with
UID:e.2062.26268
SEQUENCE:3
DTSTAMP:20260422T091123Z
URL:https://members.rockport-fulton.org/events/details/oink-hooked-on-youth-fishing-tournament-26268
END:VEVENT

END:VCALENDAR
