BEGIN:VCALENDAR
VERSION:2.0
PRODID:-//ChamberMaster//Event Calendar 2.0//EN
METHOD:PUBLISH
X-PUBLISHED-TTL:P3D
REFRESH-INTERVAL:P3D
CALSCALE:GREGORIAN
BEGIN:VEVENT
DTSTART:20260429T213000Z
DTEND:20260429T223000Z
X-MICROSOFT-CDO-ALLDAYEVENT:FALSE
SUMMARY:Non-Profit Seafair Meeting
DESCRIPTION:A special informational meeting to hear about an exciting new initiative designed to support and promote our local non-profit organizations.
X-ALT-DESC;FMTTYPE=text/html:<span style="color: rgb(34\, 34\, 34)\; font-family: Arial\, Helvetica\, sans-serif\; font-size: small\; background-color: rgb(255\, 255\, 255)\;">A special informational meeting to hear about an exciting new initiative designed to support and promote our local non-profit organizations.</span>
LOCATION:Location: Rockport-Fulton Chamber of Commerce
UID:e.2062.64767
SEQUENCE:3
DTSTAMP:20260424T094731Z
URL:https://members.rockport-fulton.org/events/details/non-profit-seafair-meeting-64767
END:VEVENT

END:VCALENDAR
