BEGIN:VCALENDAR
VERSION:2.0
PRODID:-//ChamberMaster//Event Calendar 2.0//EN
METHOD:PUBLISH
X-PUBLISHED-TTL:P3D
REFRESH-INTERVAL:P3D
CALSCALE:GREGORIAN
BEGIN:VEVENT
DTSTART:20180613T000000Z
DTEND:20180613T013000Z
X-MICROSOFT-CDO-ALLDAYEVENT:FALSE
SUMMARY:Music at the Mansion
DESCRIPTION:MUSIC AT THE MANSION\n\n\n\nFULTON MANSION STATE HISTORIC SITE - INTRODUCES\n\n\n\nTHE INDEPENDENT THIEVES\n\nThe Independent Thieves is a musical group hailing from Corpus Christi\, Texas. Fans of classic rock\, folk music\, and Americana\, the Thieves cite among their influences Van Morrison\, Tom Petty and the Heartbreakers\, Bob Dylan\, and The Band. The songs feature a blend of acoustic and electric guitar\, mandolin\, drums\, harmonica\, and their close vocal harmonies.
X-ALT-DESC;FMTTYPE=text/html:<div style="text-align: center\;"><br />\n<span style="font-family:verdana\;"><em><span style="color:#FF0000\;"><strong><span style="font-size:28px\;">MUSIC AT THE MANSION<br />\n<br />\nFULTON MANSION STATE HISTORIC SITE - INTRODUCES<br />\n<br />\nTHE INDEPENDENT THIEVES<br />\nThe Independent Thieves is a musical group hailing from Corpus Christi\, Texas.&nbsp\;Fans of classic rock\, folk music\, and Americana\, the Thieves&nbsp\;cite among their influences Van Morrison\, Tom Petty and the Heartbreakers\, Bob Dylan\, and The Band. The songs feature a blend of acoustic and electric guitar\, mandolin\, drums\, harmonica\, and their close vocal harmonies.</span></strong></span></em></span></div>\n
LOCATION:Fulton Mansion State Historic Site 317 S. Fulton Beach Road Rockport TX 78382
UID:e.2062.35113
SEQUENCE:3
DTSTAMP:20260421T140141Z
URL:https://members.rockport-fulton.org/events/details/music-at-the-mansion-35113
END:VEVENT

END:VCALENDAR
