BEGIN:VCALENDAR
VERSION:2.0
PRODID:-//ChamberMaster//Event Calendar 2.0//EN
METHOD:PUBLISH
X-PUBLISHED-TTL:P3D
REFRESH-INTERVAL:P3D
CALSCALE:GREGORIAN
BEGIN:VEVENT
DTSTART:20260803T150000Z
DTEND:20260809T000000Z
X-MICROSOFT-CDO-ALLDAYEVENT:FALSE
SUMMARY:Mural Fest - RCAD
DESCRIPTION:Mural Fest\n\nExperience the power of public art during Rockport's 2nd Annual Mural Fest\, a weeklong celebration of creativity\, culture\, and community. From August 3rd - 8th\, 2026 the Rockport Cultural Arts District will transform into an open-air gallery as four acclaimed muralists bring large-scale\, site-specific works to life on walls throughout downtown.\n\n\nPresented by RCAD in partnership with Cre8ive Culture\, Mural Fest highlights Rockport's commitment to fostering cultural exchange\, supporting contemporary public art\, and expanding our city's visual landscape. Each mural will be designed specifically for Rockport reflecting the unique character of our community while showcasing the artistry of nationally recognized muralists.\n\nFollow along as these dynamic works take shape and discover why murals are more than just art they're stories on our walls\, shaping the identity of a vibrant cultural destination.\n\n \n\nMeet the Muralists throughout the week at various locations in the district and watch as these public art additions come to life!
X-ALT-DESC;FMTTYPE=text/html:<div style="text-align: center\;"><strong><span style="font-size:20px\;">Mural Fest</span></strong><br />\n<span style="font-size: 16px\; color: rgb(8\, 8\, 9)\; font-weight: bold\;">Experience the power of public art during Rockport&rsquo\;s 2nd Annual Mural Fest\, a weeklong celebration of creativity\, culture\, and community. From August 3rd - 8th\, 2026 the Rockport Cultural Arts District will transform into an open-air gallery as four acclaimed muralists bring large-scale\, site-specific works to life on walls throughout downtown.</span></div>\n\n<div>\n<p style="margin: 0px\; padding: 0px\; font-family: Arial\, Verdana\, Helvetica\, sans-serif\; font-size: 14px\; white-space-collapse: preserve\; background-color: rgb(255\, 255\, 255)\;"><span style="font-size: 16px\; color: rgb(8\, 8\, 9)\; font-weight: bold\;">Presented by RCAD in partnership with Cre8ive Culture\, Mural Fest highlights Rockport&rsquo\;s commitment to fostering cultural exchange\, supporting contemporary public art\, and expanding our city&rsquo\;s visual landscape. Each mural will be designed specifically for Rockport&mdash\;reflecting the unique character of our community while showcasing the artistry of nationally recognized muralists.</span></p>\n\n<p style="margin: 0px\; padding: 0px\; font-family: Arial\, Verdana\, Helvetica\, sans-serif\; font-size: 14px\; white-space-collapse: preserve\; background-color: rgb(255\, 255\, 255)\;"><span style="font-size: 16px\; color: rgb(8\, 8\, 9)\; font-weight: bold\;">Follow along as these dynamic works take shape and discover why murals are more than just art&mdash\;they&rsquo\;re stories on our walls\, shaping the identity of a vibrant cultural destination.</span></p>\n\n<p style="margin: 0px\; padding: 0px\; font-family: Arial\, Verdana\, Helvetica\, sans-serif\; font-size: 14px\; white-space-collapse: preserve\; background-color: rgb(255\, 255\, 255)\; text-align: center\;">&nbsp\;</p>\n\n<p style="margin: 0px\; padding: 0px\; font-family: Arial\, Verdana\, Helvetica\, sans-serif\; font-size: 14px\; white-space-collapse: preserve\; background-color: rgb(255\, 255\, 255)\; text-align: center\;"><span style="font-weight: bold\; font-size: 16px\;">Meet the Muralists throughout the week at various locations in the district and watch as these public art additions come to life!</span></p>\n\n<p style="margin: 0px\; padding: 0px\; font-family: Arial\, Verdana\, Helvetica\, sans-serif\; font-size: 14px\; white-space-collapse: preserve\; background-color: rgb(255\, 255\, 255)\; text-align: center\;">&nbsp\;</p>\n</div>\n
LOCATION:Various locations in the district
UID:e.2062.64770
SEQUENCE:3
DTSTAMP:20260423T003726Z
URL:https://members.rockport-fulton.org/events/details/mural-fest-rcad-64770
END:VEVENT

END:VCALENDAR
